BEGIN:VCALENDAR
VERSION:2.0
PRODID:-//AA District 2 - ECPv6.15.18//NONSGML v1.0//EN
CALSCALE:GREGORIAN
METHOD:PUBLISH
X-ORIGINAL-URL:https://aatampa.org
X-WR-CALDESC:Events for AA District 2
REFRESH-INTERVAL;VALUE=DURATION:PT1H
X-Robots-Tag:noindex
X-PUBLISHED-TTL:PT1H
BEGIN:VTIMEZONE
TZID:America/New_York
BEGIN:DAYLIGHT
TZOFFSETFROM:-0500
TZOFFSETTO:-0400
TZNAME:EDT
DTSTART:20240310T070000
END:DAYLIGHT
BEGIN:STANDARD
TZOFFSETFROM:-0400
TZOFFSETTO:-0500
TZNAME:EST
DTSTART:20241103T060000
END:STANDARD
BEGIN:DAYLIGHT
TZOFFSETFROM:-0500
TZOFFSETTO:-0400
TZNAME:EDT
DTSTART:20250309T070000
END:DAYLIGHT
BEGIN:STANDARD
TZOFFSETFROM:-0400
TZOFFSETTO:-0500
TZNAME:EST
DTSTART:20251102T060000
END:STANDARD
BEGIN:DAYLIGHT
TZOFFSETFROM:-0500
TZOFFSETTO:-0400
TZNAME:EDT
DTSTART:20260308T070000
END:DAYLIGHT
BEGIN:STANDARD
TZOFFSETFROM:-0400
TZOFFSETTO:-0500
TZNAME:EST
DTSTART:20261101T060000
END:STANDARD
END:VTIMEZONE
BEGIN:VEVENT
DTSTART;VALUE=DATE:20250703
DTEND;VALUE=DATE:20250707
DTSTAMP:20260421T075630
CREATED:20250111T182734Z
LAST-MODIFIED:20250111T183905Z
UID:4572-1751500800-1751846399@aatampa.org
SUMMARY:A.A. International Convention Vancouver BC Canada
DESCRIPTION:A.A. International Convention Vancouver BC Canada \nWhen:  July 3 – 6\nWhere:  Vancouver\, BC Canada \nLinks \nSave the date!\nIC 2025 Top five things to know.\n2025 International Convention Frequently Asked Questions \nClick HERE for more information!
URL:https://aatampa.org/event/a-a-international-convention-vancouver-bc-canada/
LOCATION:FL
END:VEVENT
BEGIN:VEVENT
DTSTART;VALUE=DATE:20250711
DTEND;VALUE=DATE:20250714
DTSTAMP:20260421T075630
CREATED:20250111T184949Z
LAST-MODIFIED:20250111T184949Z
UID:4580-1752192000-1752451199@aatampa.org
SUMMARY:Area 15 Quarterly Assembly Marriott Cape Coral
DESCRIPTION:Area 15 Quarterly Assembly Marriott Cape Coral \nWhen:  July 11 – 13\nWhere:  Cape Coral Marriott \n 
URL:https://aatampa.org/event/area-15-quarterly-assembly-marriott-cape-coral/
LOCATION:FL
END:VEVENT
BEGIN:VEVENT
DTSTART;TZID=America/New_York:20250712T093000
DTEND;TZID=America/New_York:20250712T103000
DTSTAMP:20260421T075630
CREATED:20250323T212857Z
LAST-MODIFIED:20250323T212857Z
UID:4985-1752312600-1752316200@aatampa.org
SUMMARY:Area 15 District 2 TBAIC & Institutions Committee Meeting
DESCRIPTION:Contact info: tbaic@aatampa.org\nWhen: 2nd Saturday of each month  9:30 am\nWhere: Virtual\nMeeting ID: 345 781 6796\nPasscode:  274T4N
URL:https://aatampa.org/event/area-15-district-2-tbaic-institutions-committee-meeting-3/
LOCATION:FL
END:VEVENT
BEGIN:VEVENT
DTSTART;TZID=America/New_York:20250717T190000
DTEND;TZID=America/New_York:20250717T200000
DTSTAMP:20260421T075630
CREATED:20250116T211719Z
LAST-MODIFIED:20250116T211838Z
UID:4638-1752778800-1752782400@aatampa.org
SUMMARY:Area 15 District 2 Archives Committee Meeting
DESCRIPTION:Contact info: archives@aatampa.org\nWhen: 3rd Thursday of every month at 7:00 PM\nWhere: Virtual – Zoom\nZoom I.D.: 816 6120 3215\nPasscode: archives
URL:https://aatampa.org/event/area-15-district-2-archives-committee-meeting-8/
LOCATION:FL
END:VEVENT
BEGIN:VEVENT
DTSTART;TZID=America/New_York:20250719T090000
DTEND;TZID=America/New_York:20250719T100000
DTSTAMP:20260421T075630
CREATED:20250323T213115Z
LAST-MODIFIED:20250323T213115Z
UID:4987-1752915600-1752919200@aatampa.org
SUMMARY:Area 15 District 2 Public Information & Cooperation with the Professional Community Committee Meeting
DESCRIPTION:Contact Info: pi-cpc@aatampa.org\nWhen: 3rd Saturday of every month 9:00am\nWhere: Virtual\nMeeting ID:  927 439 9087\nPassword:  5wnNy3
URL:https://aatampa.org/event/area-15-district-2-public-information-cooperation-with-the-professional-community-committee-meeting-4/
LOCATION:FL
END:VEVENT
BEGIN:VEVENT
DTSTART;TZID=America/New_York:20250719T093000
DTEND;TZID=America/New_York:20250719T103000
DTSTAMP:20260421T075630
CREATED:20250323T212133Z
LAST-MODIFIED:20250323T212133Z
UID:4979-1752917400-1752921000@aatampa.org
SUMMARY:Area 15 District 2 Gratitude Dinner Committee Meeting
DESCRIPTION:Contact Info: gratitudedinner@aatampa.org\nWhen: 3rd Saturday of every month at 9:30AM\nWhere: Virtual\nMeeting I.D.: 927 439 9087\nPasscode: 5wnNy3
URL:https://aatampa.org/event/area-15-district-2-gratitude-dinner-committee-meeting-4/
LOCATION:FL
END:VEVENT
BEGIN:VEVENT
DTSTART;TZID=America/New_York:20250720T140000
DTEND;TZID=America/New_York:20250720T150000
DTSTAMP:20260421T075630
CREATED:20250323T211836Z
LAST-MODIFIED:20250323T212254Z
UID:4975-1753020000-1753023600@aatampa.org
SUMMARY:Area 15 District 2 District Dispatch Committee Meeting
DESCRIPTION:Contact info: districtdispatch@aatampa.org\nWhen: 3rd Sunday of the month @ 2PM\nWhere: Virtual\nMeeting ID: 899 8285 9225\nPasscode:  402123
URL:https://aatampa.org/event/area-15-district-2-district-dispatch-committee-meeting-6/
LOCATION:FL
END:VEVENT
END:VCALENDAR