BEGIN:VCALENDAR
VERSION:2.0
PRODID:-//AA District 2 - ECPv6.15.18//NONSGML v1.0//EN
CALSCALE:GREGORIAN
METHOD:PUBLISH
X-WR-CALNAME:AA District 2
X-ORIGINAL-URL:https://aatampa.org
X-WR-CALDESC:Events for AA District 2
REFRESH-INTERVAL;VALUE=DURATION:PT1H
X-Robots-Tag:noindex
X-PUBLISHED-TTL:PT1H
BEGIN:VTIMEZONE
TZID:America/New_York
BEGIN:DAYLIGHT
TZOFFSETFROM:-0500
TZOFFSETTO:-0400
TZNAME:EDT
DTSTART:20240310T070000
END:DAYLIGHT
BEGIN:STANDARD
TZOFFSETFROM:-0400
TZOFFSETTO:-0500
TZNAME:EST
DTSTART:20241103T060000
END:STANDARD
BEGIN:DAYLIGHT
TZOFFSETFROM:-0500
TZOFFSETTO:-0400
TZNAME:EDT
DTSTART:20250309T070000
END:DAYLIGHT
BEGIN:STANDARD
TZOFFSETFROM:-0400
TZOFFSETTO:-0500
TZNAME:EST
DTSTART:20251102T060000
END:STANDARD
BEGIN:DAYLIGHT
TZOFFSETFROM:-0500
TZOFFSETTO:-0400
TZNAME:EDT
DTSTART:20260308T070000
END:DAYLIGHT
BEGIN:STANDARD
TZOFFSETFROM:-0400
TZOFFSETTO:-0500
TZNAME:EST
DTSTART:20261101T060000
END:STANDARD
END:VTIMEZONE
BEGIN:VEVENT
DTSTART;TZID=America/New_York:20250504T120000
DTEND;TZID=America/New_York:20250504T180000
DTSTAMP:20260421T112253
CREATED:20250420T183725Z
LAST-MODIFIED:20250420T184821Z
UID:5054-1746360000-1746381600@aatampa.org
SUMMARY:Tampa YPG Beach Day
DESCRIPTION:May 4th\, 2025 12pm – 6pm \nSand Key Park\nShelter 02\n1060 Gulf Blvd Clearwater\, FL 33767 \nClick HERE for more info!
URL:https://aatampa.org/event/tampa-ypg-beach-day/
LOCATION:Sand Key Park\, 1060 Gulf Blvd\, Clearwater\, FL\, 33767\, United States
END:VEVENT
BEGIN:VEVENT
DTSTART;TZID=America/New_York:20250504T140000
DTEND;TZID=America/New_York:20250504T150000
DTSTAMP:20260421T112253
CREATED:20250309T221805Z
LAST-MODIFIED:20250309T221805Z
UID:4897-1746367200-1746370800@aatampa.org
SUMMARY:Area 15 District 2 New GSR Orientation
DESCRIPTION:Contact info: newgsr@aatampa.org\nWhen: Same Sunday as District Meetings 2pm – 3pm EST\nWhere: Virtual\nMeeting ID:  962 6896 1514\nPassword:  District2
URL:https://aatampa.org/event/area-15-district-2-new-gsr-orientation-2/
LOCATION:FL
END:VEVENT
BEGIN:VEVENT
DTSTART;TZID=America/New_York:20250504T150000
DTEND;TZID=America/New_York:20250504T170000
DTSTAMP:20260421T112253
CREATED:20250111T174309Z
LAST-MODIFIED:20250111T174309Z
UID:4553-1746370800-1746378000@aatampa.org
SUMMARY:May District 2 Business Meeting
DESCRIPTION:May District 2 Business Meeting\n\nWhen: 3pm – 5pm EST\nWhere: Hybrid (In Person & Virtual)\n3333 W Columbus Dr\nTampa\, FL 33607\nOR\nZoom Meeting ID:\n962 6896 1514\nPassword:  District2 \nContact:\nChair@aatampa.org
URL:https://aatampa.org/event/may-district-2-business-meeting/
LOCATION:The Club\, 3333 West Columbus Drive\, Tampa\, FL\, 33607\, United States
END:VEVENT
BEGIN:VEVENT
DTSTART;TZID=America/New_York:20250510T093000
DTEND;TZID=America/New_York:20250510T103000
DTSTAMP:20260421T112253
CREATED:20250309T222835Z
LAST-MODIFIED:20250309T222835Z
UID:4905-1746869400-1746873000@aatampa.org
SUMMARY:Area 15 District TBAIC & Institutions Committee Meeting
DESCRIPTION:Contact info: tbaic@aatampa.org\nWhen: 2nd Saturday of each month  9:30 am\nWhere: Virtual\nMeeting ID: 345 781 6796\nPassword:  274T4N
URL:https://aatampa.org/event/area-15-district-tbaic-institutions-committee-meeting/
LOCATION:FL
END:VEVENT
BEGIN:VEVENT
DTSTART;TZID=America/New_York:20250515T190000
DTEND;TZID=America/New_York:20250515T200000
DTSTAMP:20260421T112253
CREATED:20250116T211113Z
LAST-MODIFIED:20250116T211113Z
UID:4632-1747335600-1747339200@aatampa.org
SUMMARY:Area 15 District 2 Archives Committee Meeting
DESCRIPTION:Contact info: archives@aatampa.org\nWhen: 3rd Thursday of every month at 7:00 PM\nWhere: Virtual – Zoom\nZoom I.D.: 816 6120 3215\nPasscode: archives
URL:https://aatampa.org/event/area-15-district-2-archives-committee-meeting-5/
LOCATION:FL
END:VEVENT
BEGIN:VEVENT
DTSTART;TZID=America/New_York:20250517T090000
DTEND;TZID=America/New_York:20250517T100000
DTSTAMP:20260421T112253
CREATED:20250309T222318Z
LAST-MODIFIED:20250309T222318Z
UID:4901-1747472400-1747476000@aatampa.org
SUMMARY:Area 15 District 2 Public Information & Cooperation with the Professional Community Committee Meeting
DESCRIPTION:Contact Info: pi-cpc@aatampa.org\nWhen: 3rd Saturday of every month 9:00am\nWhere: Virtual\nMeeting ID:  927 439 9087\nPassword:  5wnNy3
URL:https://aatampa.org/event/area-15-district-2-public-information-cooperation-with-the-professional-community-committee-meeting-3/
LOCATION:FL
END:VEVENT
BEGIN:VEVENT
DTSTART;TZID=America/New_York:20250517T133000
DTEND;TZID=America/New_York:20250517T163000
DTSTAMP:20260421T112253
CREATED:20250105T154753Z
LAST-MODIFIED:20250105T162242Z
UID:4529-1747488600-1747499400@aatampa.org
SUMMARY:Sponsorship Workshop!
DESCRIPTION:Sponsorship Workshop! \n18125 U.S. Highway 41\nLutz\, FL  33549\n(IN THE BACK) \nClick HERE for the flyer! \n 
URL:https://aatampa.org/event/sponsorship-workshop/
LOCATION:Old School Group (Crystal Lakes Plaza)\, 18125 US Highway 41\, Lutz\, FL\, 33559\, United States
END:VEVENT
BEGIN:VEVENT
DTSTART;TZID=America/New_York:20250518T140000
DTEND;TZID=America/New_York:20250518T150000
DTSTAMP:20260421T112253
CREATED:20250309T220028Z
LAST-MODIFIED:20250309T220028Z
UID:4883-1747576800-1747580400@aatampa.org
SUMMARY:Area 15 District 2 District Dispatch Committee Meeting
DESCRIPTION:Contact info: districtdispatch@aatampa.org\nWhen: 3rd Sunday of the month @ 2PM\nWhere: Virtual\nMeeting ID: 899 8285 9225\nPassword:  402123
URL:https://aatampa.org/event/area-15-district-2-district-dispatch-committee-meeting-4/
LOCATION:FL
END:VEVENT
BEGIN:VEVENT
DTSTART;TZID=America/New_York:20250519T200000
DTEND;TZID=America/New_York:20250519T210000
DTSTAMP:20260421T112253
CREATED:20250511T214710Z
LAST-MODIFIED:20250511T214803Z
UID:5232-1747684800-1747688400@aatampa.org
SUMMARY:Area 15 District 2 Carry the Message Day Committee Meeting
DESCRIPTION:If interested\, call Chelsea for more information
URL:https://aatampa.org/event/area-15-district-2-carry-the-message-day-committee-meeting/
LOCATION:FL
END:VEVENT
END:VCALENDAR