BEGIN:VCALENDAR
VERSION:2.0
PRODID:-//AA District 2 - ECPv6.15.18//NONSGML v1.0//EN
CALSCALE:GREGORIAN
METHOD:PUBLISH
X-WR-CALNAME:AA District 2
X-ORIGINAL-URL:https://aatampa.org
X-WR-CALDESC:Events for AA District 2
REFRESH-INTERVAL;VALUE=DURATION:PT1H
X-Robots-Tag:noindex
X-PUBLISHED-TTL:PT1H
BEGIN:VTIMEZONE
TZID:America/New_York
BEGIN:DAYLIGHT
TZOFFSETFROM:-0500
TZOFFSETTO:-0400
TZNAME:EDT
DTSTART:20240310T070000
END:DAYLIGHT
BEGIN:STANDARD
TZOFFSETFROM:-0400
TZOFFSETTO:-0500
TZNAME:EST
DTSTART:20241103T060000
END:STANDARD
BEGIN:DAYLIGHT
TZOFFSETFROM:-0500
TZOFFSETTO:-0400
TZNAME:EDT
DTSTART:20250309T070000
END:DAYLIGHT
BEGIN:STANDARD
TZOFFSETFROM:-0400
TZOFFSETTO:-0500
TZNAME:EST
DTSTART:20251102T060000
END:STANDARD
BEGIN:DAYLIGHT
TZOFFSETFROM:-0500
TZOFFSETTO:-0400
TZNAME:EDT
DTSTART:20260308T070000
END:DAYLIGHT
BEGIN:STANDARD
TZOFFSETFROM:-0400
TZOFFSETTO:-0500
TZNAME:EST
DTSTART:20261101T060000
END:STANDARD
END:VTIMEZONE
BEGIN:VEVENT
DTSTART;TZID=America/New_York:20250302T140000
DTEND;TZID=America/New_York:20250302T150000
DTSTAMP:20260423T223850
CREATED:20240902T145658Z
LAST-MODIFIED:20250216T184536Z
UID:4304-1740924000-1740927600@aatampa.org
SUMMARY:Area 15 District 2 New GSR Orientation
DESCRIPTION:Contact: newgsr@aatampa.org\nWhen: Same Sunday as District Meetings 2pm – 3pm EST\nWhere: Virtual\nZoom Meeting ID: 962 6896 1514\nPassword:  District2
URL:https://aatampa.org/event/district-2-new-gsr-orientation-11/
LOCATION:FL
END:VEVENT
BEGIN:VEVENT
DTSTART;TZID=America/New_York:20250302T150000
DTEND;TZID=America/New_York:20250302T170000
DTSTAMP:20260423T223850
CREATED:20250111T173549Z
LAST-MODIFIED:20250111T173549Z
UID:4549-1740927600-1740934800@aatampa.org
SUMMARY:March District 2 Business Meeting
DESCRIPTION:March District 2 Business Meeting\n\nWhen: 3pm – 5pm EST\nWhere: Hybrid (In Person & Virtual)\n3333 W Columbus Dr\nTampa\, FL 33607\nOR\nZoom Meeting ID:\n962 6896 1514\nPassword:  District2\nContact:\nChair@aatampa.org
URL:https://aatampa.org/event/march-district-2-business-meeting/
LOCATION:The Club\, 3333 West Columbus Drive\, Tampa\, FL\, 33607\, United States
END:VEVENT
BEGIN:VEVENT
DTSTART;TZID=America/New_York:20250308T093000
DTEND;TZID=America/New_York:20250308T103000
DTSTAMP:20260423T223850
CREATED:20250126T214859Z
LAST-MODIFIED:20250216T184817Z
UID:4749-1741426200-1741429800@aatampa.org
SUMMARY:Area 15 District 2 TBAIC & Institutions Committee Meeting
DESCRIPTION:Contact info: tbaic@aatampa.org\nWhen: 2nd Saturday of each month  9:30 am\nWhere: Virtual – Zoom\nZoom Meeting ID: 345 781 6796\nPassword:  274T4N
URL:https://aatampa.org/event/area-15-district-2-tbaic-institutions-committee-meeting/
LOCATION:FL
END:VEVENT
BEGIN:VEVENT
DTSTART;VALUE=DATE:20250314
DTEND;VALUE=DATE:20250317
DTSTAMP:20260423T223850
CREATED:20250118T154258Z
LAST-MODIFIED:20250118T154258Z
UID:4712-1741910400-1742169599@aatampa.org
SUMMARY:Soberstock 2025 - 20th Anniversary
DESCRIPTION:Sand Hill Scout Reservation\n11210 Cortez Blvd\,\nBrooksville FL\, 34613 \nClick HERE for the flyer! \nClick HERE for the website!
URL:https://aatampa.org/event/soberstock-2025-20th-anniversary/
LOCATION:Sand Hill Scout Reservation\, 11210 Cortez Blvd\, Brooksville\, FL\, 34613\, United States
END:VEVENT
BEGIN:VEVENT
DTSTART;TZID=America/New_York:20250315T090000
DTEND;TZID=America/New_York:20250315T100000
DTSTAMP:20260423T223850
CREATED:20250126T214343Z
LAST-MODIFIED:20250216T184702Z
UID:4745-1742029200-1742032800@aatampa.org
SUMMARY:Area 15 District 2 Public Information & Cooperation with the Professional Community Committee Meeting
DESCRIPTION:Contact Info: pi-cpc@aatampa.org\nWhen: 3rd Saturday of every month 9:00am\nWhere: Virtual – Zoom\nZoom Meeting ID:  927 439 9087\nPassword:  5wnNy3
URL:https://aatampa.org/event/area-15-district-2-public-information-cooperation-with-the-professional-community-committee-meeting/
LOCATION:FL
END:VEVENT
BEGIN:VEVENT
DTSTART;TZID=America/New_York:20250315T093000
DTEND;TZID=America/New_York:20250315T103000
DTSTAMP:20260423T223850
CREATED:20250126T212927Z
LAST-MODIFIED:20250216T183950Z
UID:4739-1742031000-1742034600@aatampa.org
SUMMARY:Area 15 District 2 Gratitude Dinner Committee Meeting
DESCRIPTION:Contact Info: gratitudedinner@aatampa.org\nWhen: 3rd Saturday of every month at 9:30AM\nWhere: Virtual - Zoom\nZoom I.D.: 927 439 9087\nPassword: 5wnNy3
URL:https://aatampa.org/event/area-15-district-2-gratitude-dinner-committee-meeting/
LOCATION:FL
END:VEVENT
BEGIN:VEVENT
DTSTART;TZID=America/New_York:20250316T140000
DTEND;TZID=America/New_York:20250316T150000
DTSTAMP:20260423T223850
CREATED:20250309T215736Z
LAST-MODIFIED:20250309T215800Z
UID:4878-1742133600-1742137200@aatampa.org
SUMMARY:Area 15 District 2 District Dispatch Committee Meeting
DESCRIPTION:Contact info: districtdispatch@aatampa.org\nWhen: 3rd Sunday of the month @ 2PM\nWhere: Virtual\nMeeting ID: 899 8285 9225\nPassword:  402123
URL:https://aatampa.org/event/area-15-district-2-district-dispatch-committee-meeting-2/
LOCATION:FL
END:VEVENT
BEGIN:VEVENT
DTSTART;TZID=America/New_York:20250320T190000
DTEND;TZID=America/New_York:20250320T200000
DTSTAMP:20260423T223850
CREATED:20250116T210721Z
LAST-MODIFIED:20250116T210721Z
UID:4628-1742497200-1742500800@aatampa.org
SUMMARY:Area 15 District 2 Archives Committee Meeting
DESCRIPTION:Contact info: archives@aatampa.org\nWhen: 3rd Thursday of every month at 7:00 PM\nWhere: Virtual – Zoom\nZoom I.D.: 816 6120 3215\nPasscode: archives
URL:https://aatampa.org/event/area-15-district-2-archives-committee-meeting-3/
LOCATION:FL
END:VEVENT
BEGIN:VEVENT
DTSTART;TZID=America/New_York:20250321T180000
DTEND;TZID=America/New_York:20250321T200000
DTSTAMP:20260423T223850
CREATED:20250216T180917Z
LAST-MODIFIED:20250216T180917Z
UID:4790-1742580000-1742587200@aatampa.org
SUMMARY:Sisters in Sobriety 19th Group Anniversary
DESCRIPTION:Sisters in Sobriety 19th Group Anniversary \nFirst Presbyterian Church\n121 Carver Avenue\nBrandon\, FL 33511 \nClick HERE for the flyer!
URL:https://aatampa.org/event/sisters-in-sobriety-19th-group-anniversary/
LOCATION:First Presbyterian Church\, 121 Carver Avenue\, Brandon\, FL\, 33511\, United States
END:VEVENT
BEGIN:VEVENT
DTSTART;TZID=America/New_York:20250330T140000
DTEND;TZID=America/New_York:20250330T150000
DTSTAMP:20260423T223850
CREATED:20250309T221645Z
LAST-MODIFIED:20250309T221645Z
UID:4895-1743343200-1743346800@aatampa.org
SUMMARY:Area 15 District 2 New GSR Orientation
DESCRIPTION:Contact info: newgsr@aatampa.org\nWhen: Same Sunday as District Meetings 2pm – 3pm EST\nWhere: Virtual\nMeeting ID:  962 6896 1514\nPassword:  District2
URL:https://aatampa.org/event/area-15-district-2-new-gsr-orientation/
LOCATION:FL
END:VEVENT
BEGIN:VEVENT
DTSTART;TZID=America/New_York:20250330T140000
DTEND;TZID=America/New_York:20250330T150000
DTSTAMP:20260423T223850
CREATED:20250323T205716Z
LAST-MODIFIED:20250323T210411Z
UID:4959-1743343200-1743346800@aatampa.org
SUMMARY:Area 15 District 2 GSR/DCM Sharing Session
DESCRIPTION:Contact: altchair@aatampa.org\nWhen: 2pm – 3pm EST\nWhere:  Virtual\nMeeting ID: 962 6896 1514\nPassword:  District2
URL:https://aatampa.org/event/area-15-district-2-gsr-dcm-sharing-session/
LOCATION:FL
END:VEVENT
BEGIN:VEVENT
DTSTART;TZID=America/New_York:20250330T150000
DTEND;TZID=America/New_York:20250330T170000
DTSTAMP:20260423T223850
CREATED:20250111T173957Z
LAST-MODIFIED:20250111T173957Z
UID:4551-1743346800-1743354000@aatampa.org
SUMMARY:April District 2 Business Meeting
DESCRIPTION:April District 2 Business Meeting\n\nWhen: 3pm – 5pm EST\nWhere: Hybrid (In Person & Virtual)\n3333 W Columbus Dr\nTampa\, FL 33607\nOR\nZoom Meeting ID:\n962 6896 1514\nPassword:  District2\nContact:\nChair@aatampa.org
URL:https://aatampa.org/event/april-district-2-business-meeting/
LOCATION:The Club\, 3333 West Columbus Drive\, Tampa\, FL\, 33607\, United States
END:VEVENT
END:VCALENDAR