BEGIN:VCALENDAR
VERSION:2.0
PRODID:-//AA District 2 - ECPv6.15.18//NONSGML v1.0//EN
CALSCALE:GREGORIAN
METHOD:PUBLISH
X-WR-CALNAME:AA District 2
X-ORIGINAL-URL:https://aatampa.org
X-WR-CALDESC:Events for AA District 2
REFRESH-INTERVAL;VALUE=DURATION:PT1H
X-Robots-Tag:noindex
X-PUBLISHED-TTL:PT1H
BEGIN:VTIMEZONE
TZID:America/New_York
BEGIN:DAYLIGHT
TZOFFSETFROM:-0500
TZOFFSETTO:-0400
TZNAME:EDT
DTSTART:20240310T070000
END:DAYLIGHT
BEGIN:STANDARD
TZOFFSETFROM:-0400
TZOFFSETTO:-0500
TZNAME:EST
DTSTART:20241103T060000
END:STANDARD
BEGIN:DAYLIGHT
TZOFFSETFROM:-0500
TZOFFSETTO:-0400
TZNAME:EDT
DTSTART:20250309T070000
END:DAYLIGHT
BEGIN:STANDARD
TZOFFSETFROM:-0400
TZOFFSETTO:-0500
TZNAME:EST
DTSTART:20251102T060000
END:STANDARD
BEGIN:DAYLIGHT
TZOFFSETFROM:-0500
TZOFFSETTO:-0400
TZNAME:EDT
DTSTART:20260308T070000
END:DAYLIGHT
BEGIN:STANDARD
TZOFFSETFROM:-0400
TZOFFSETTO:-0500
TZNAME:EST
DTSTART:20261101T060000
END:STANDARD
END:VTIMEZONE
BEGIN:VEVENT
DTSTART;TZID=America/New_York:20250202T140000
DTEND;TZID=America/New_York:20250202T150000
DTSTAMP:20260424T001440
CREATED:20250126T220010Z
LAST-MODIFIED:20250126T220524Z
UID:4753-1738504800-1738508400@aatampa.org
SUMMARY:Area 15 District GSR/DCM Sharing
DESCRIPTION:When: 1st Sunday of each month\nexcept for January\, April\, July\, October\, December\nWhere: Virtual – Zoom\nMeeting ID: 962 6896 1514\nPasscode: District2
URL:https://aatampa.org/event/area-15-district-gsr-dcm-sharing/
LOCATION:FL
END:VEVENT
BEGIN:VEVENT
DTSTART;TZID=America/New_York:20250202T150000
DTEND;TZID=America/New_York:20250202T170000
DTSTAMP:20260424T001440
CREATED:20250111T173153Z
LAST-MODIFIED:20250111T173153Z
UID:4547-1738508400-1738515600@aatampa.org
SUMMARY:February District 2 Business Meeting
DESCRIPTION:District 2 Business Meeting\n\nWhen:  3pm – 5pm EST\nWhere: Hybrid (In Person & Virtual)\n3333 W Columbus Dr\nTampa\, FL 33607\nOR\nZoom Meeting ID:\n962 6896 1514\nPassword:  District2\nContact:\nChair@aatampa.org
URL:https://aatampa.org/event/february-district-2-business-meeting/
LOCATION:The Club\, 3333 West Columbus Drive\, Tampa\, FL\, 33607\, United States
END:VEVENT
BEGIN:VEVENT
DTSTART;TZID=America/New_York:20250215T133000
DTEND;TZID=America/New_York:20250215T163000
DTSTAMP:20260424T001440
CREATED:20250105T161903Z
LAST-MODIFIED:20250105T162542Z
UID:4537-1739626200-1739637000@aatampa.org
SUMMARY:Spiritual Experiences & Awakenings Workshop
DESCRIPTION:Spiritual Experiences & Awakenings Workshop \nOld School Group\n18125 US Hwy 41\nLutz\, FL  33549 \nClick HERE for the flyer!
URL:https://aatampa.org/event/spiritual-experiences-awakenings-workshop/
LOCATION:Old School Group (Crystal Lakes Plaza)\, 18125 US Highway 41\, Lutz\, FL\, 33559\, United States
END:VEVENT
BEGIN:VEVENT
DTSTART;TZID=America/New_York:20250216T140000
DTEND;TZID=America/New_York:20250216T150000
DTSTAMP:20260424T001440
CREATED:20250126T212004Z
LAST-MODIFIED:20250126T212004Z
UID:4733-1739714400-1739718000@aatampa.org
SUMMARY:Area 15 District 2 District Dispatch Committee Meeting
DESCRIPTION:Contact info: districtdispatch@aatampa.org\nWhen: 3rd Sunday of the month @ 2PM\nWhere: Virtual – Zoom\nZoom Meeting ID: 899 8285 9225\nPassword:  402123
URL:https://aatampa.org/event/area-15-district-2-district-dispatch-committee-meeting/
LOCATION:FL
END:VEVENT
BEGIN:VEVENT
DTSTART;TZID=America/New_York:20250216T150000
DTEND;TZID=America/New_York:20250216T180000
DTSTAMP:20260424T001440
CREATED:20250118T145700Z
LAST-MODIFIED:20250118T145700Z
UID:4694-1739718000-1739728800@aatampa.org
SUMMARY:Fall in Love with Sobriety
DESCRIPTION:Full Moon River Women’s Meeting \nThe Sister’s House\n3006 N. Perry Ave.\nTampa\, FL 33603 \nClick HERE for the flyer!
URL:https://aatampa.org/event/fall-in-love-with-sobriety/
LOCATION:The Sister’s House\, 3006 N. Perry Ave.\, Tampa\, FL\, 33603\, United States
END:VEVENT
BEGIN:VEVENT
DTSTART;TZID=America/New_York:20250220T190000
DTEND;TZID=America/New_York:20250220T200000
DTSTAMP:20260424T001440
CREATED:20250116T210544Z
LAST-MODIFIED:20250116T210544Z
UID:4626-1740078000-1740081600@aatampa.org
SUMMARY:Area 15 District 2 Archives Committee Meeting
DESCRIPTION:Contact info: archives@aatampa.org\nWhen: 3rd Thursday of every month at 7:00 PM\nWhere: Virtual – Zoom\nZoom I.D.: 816 6120 3215\nPasscode: archives
URL:https://aatampa.org/event/area-15-district-2-archives-committee-meeting-2/
LOCATION:FL
END:VEVENT
BEGIN:VEVENT
DTSTART;TZID=America/New_York:20250222T090000
DTEND;TZID=America/New_York:20250222T160000
DTSTAMP:20260424T001440
CREATED:20240820T233119Z
LAST-MODIFIED:20240820T233119Z
UID:4252-1740214800-1740240000@aatampa.org
SUMMARY:7th Florida AA Archives Workshop
DESCRIPTION:7th Florida AA Archives Workshop\nHosted by Areas 1 \, 14\, and 15\nSaturday\, February 22\, 2025 – 9am to 4pm\nLynn Haven Methodist Church\n3203 Minnesota Avenue\, Panama City\, FL\, 32405\n$30/person – lunch included\nPresentations include Florida’s AA history\, Area\, District\, Intergroup Archives Displays\, and much more!\nPlease fill out form on back\, make checks payable to District 15 and send registration to District 15 Intergroup\, PO Box 1443\, Panama City\, FL\, 32402. If you have any questions\, please contact us at flarchives2025@gmail.com \nFlorida AA Archives Workshop Flyer
URL:https://aatampa.org/event/7th-florida-aa-archives-workshop/
LOCATION:FL
END:VEVENT
BEGIN:VEVENT
DTSTART;TZID=America/New_York:20250222T140000
DTEND;TZID=America/New_York:20250222T180000
DTSTAMP:20260424T001440
CREATED:20250118T153311Z
LAST-MODIFIED:20250118T153311Z
UID:4709-1740232800-1740247200@aatampa.org
SUMMARY:Tri-County Central Offices Presents 50th Anniversary
DESCRIPTION:Palma Ceia Presbyterian Church\n3501 W. San Jose St.\nTampa\, FL 33629 \nClick HERE for the flyer! \nCakewalk Donations needed!  Click HERE for the flyer!
URL:https://aatampa.org/event/tri-county-central-offices-presents-50th-anniversary/
LOCATION:Palma Ceia Presbyterian Church\, 3501 W. San Jose St.\, Tampa\, FL\, 33629\, United States
END:VEVENT
END:VCALENDAR