BEGIN:VCALENDAR
VERSION:2.0
PRODID:-//AA District 2 - ECPv6.15.18//NONSGML v1.0//EN
CALSCALE:GREGORIAN
METHOD:PUBLISH
X-WR-CALNAME:AA District 2
X-ORIGINAL-URL:https://aatampa.org
X-WR-CALDESC:Events for AA District 2
REFRESH-INTERVAL;VALUE=DURATION:PT1H
X-Robots-Tag:noindex
X-PUBLISHED-TTL:PT1H
BEGIN:VTIMEZONE
TZID:America/New_York
BEGIN:DAYLIGHT
TZOFFSETFROM:-0500
TZOFFSETTO:-0400
TZNAME:EDT
DTSTART:20210314T070000
END:DAYLIGHT
BEGIN:STANDARD
TZOFFSETFROM:-0400
TZOFFSETTO:-0500
TZNAME:EST
DTSTART:20211107T060000
END:STANDARD
BEGIN:DAYLIGHT
TZOFFSETFROM:-0500
TZOFFSETTO:-0400
TZNAME:EDT
DTSTART:20220313T070000
END:DAYLIGHT
BEGIN:STANDARD
TZOFFSETFROM:-0400
TZOFFSETTO:-0500
TZNAME:EST
DTSTART:20221106T060000
END:STANDARD
BEGIN:DAYLIGHT
TZOFFSETFROM:-0500
TZOFFSETTO:-0400
TZNAME:EDT
DTSTART:20230312T070000
END:DAYLIGHT
BEGIN:STANDARD
TZOFFSETFROM:-0400
TZOFFSETTO:-0500
TZNAME:EST
DTSTART:20231105T060000
END:STANDARD
BEGIN:DAYLIGHT
TZOFFSETFROM:-0500
TZOFFSETTO:-0400
TZNAME:EDT
DTSTART:20240310T070000
END:DAYLIGHT
BEGIN:STANDARD
TZOFFSETFROM:-0400
TZOFFSETTO:-0500
TZNAME:EST
DTSTART:20241103T060000
END:STANDARD
END:VTIMEZONE
BEGIN:VEVENT
DTSTART;TZID=America/New_York:20230516T190000
DTEND;TZID=America/New_York:20230516T200000
DTSTAMP:20260421T174832
CREATED:20230423T122515Z
LAST-MODIFIED:20230423T125017Z
UID:3089-1684263600-1684267200@aatampa.org
SUMMARY:District 2 Current Practices Meeting 
DESCRIPTION:District 2 Current Practices Meeting\nContact info: currentpractice@aatampa.org\nWhen: 3rd Tuesday of the Month\nWhere: Virtual – Zoom\nZoom Meeting ID: 881 8592 8987\nPasscode: current
URL:https://aatampa.org/event/district-2-current-practices-meeting/
END:VEVENT
BEGIN:VEVENT
DTSTART;TZID=America/New_York:20230516T170000
DTEND;TZID=America/New_York:20230516T180000
DTSTAMP:20260421T174832
CREATED:20230508T165327Z
LAST-MODIFIED:20230508T170101Z
UID:3182-1684256400-1684260000@aatampa.org
SUMMARY:Districts 1 & 5 Area 15 Delegate Report 60 Minutes of Q&A with Cary W.
DESCRIPTION:Districts 1 & 5 Area 15 Delegate Report 60 Minutes of Q&A with Cary W.\nTuesday\, 5/16/2023\n5:30 PM – 6:30 PM\nHybrid\nZoom ID:  91855028568\nPasscode:  D1Service
URL:https://aatampa.org/event/districts-1-5-area-15-delegate-report-60-minutes-of-qa-with-cary-w/
END:VEVENT
BEGIN:VEVENT
DTSTART;TZID=America/New_York:20230513T093000
DTEND;TZID=America/New_York:20230513T103000
DTSTAMP:20260421T174832
CREATED:20230423T122643Z
LAST-MODIFIED:20230423T122643Z
UID:3091-1683970200-1683973800@aatampa.org
SUMMARY:TBAIC/Institutions Committee Meeting
DESCRIPTION:TBAIC/Institutions Committee Meeting\nContact info: tbaic@aatampa.org\nWhen: Second Saturday of each month  9:30 am\nWhere: Virtual – Zoom\nZoom Meeting ID: 345 781 6796\nPassword:  274T4N \n 
URL:https://aatampa.org/event/tbaic-institutions-committee-meeting/
END:VEVENT
BEGIN:VEVENT
DTSTART;TZID=America/New_York:20230509T190000
DTEND;TZID=America/New_York:20230509T200000
DTSTAMP:20260421T174832
CREATED:20230423T125154Z
LAST-MODIFIED:20230507T201301Z
UID:3093-1683658800-1683662400@aatampa.org
SUMMARY:District 2 Current Practices Meeting
DESCRIPTION:District 2 Current Practices Meeting\nContact info: currentpractice@aatampa.org\nWhen: 3rd Tuesday of the Month\, special meeting on 5/9/23\nWhere: Virtual – Zoom\nZoom Meeting ID: 881 8592 8987\nPasscode: current
URL:https://aatampa.org/event/district-2-current-practices-meeting-2/
END:VEVENT
BEGIN:VEVENT
DTSTART;TZID=America/New_York:20230508T180000
DTEND;TZID=America/New_York:20230508T190000
DTSTAMP:20260421T174832
CREATED:20230423T121527Z
LAST-MODIFIED:20230423T121527Z
UID:3078-1683568800-1683572400@aatampa.org
SUMMARY:District 2 Delegate Luncheon Committee Meeting
DESCRIPTION:District 2 Delegate Luncheon Committee Meeting\nEvery other Monday at 6:00 PM\nDates: April 10\, 2023\, April 24\, 2023\, May 1\, 2023\, May 8\, 2023\, May  22\, 2023 \nMeeting ID: 896 2193 6083\nPasscode: 06042023
URL:https://aatampa.org/event/district-2-delegate-luncheon-committee-meeting-2/
END:VEVENT
BEGIN:VEVENT
DTSTART;TZID=America/New_York:20230507T140000
DTEND;TZID=America/New_York:20230507T150000
DTSTAMP:20260421T174832
CREATED:20230410T104059Z
LAST-MODIFIED:20230410T104201Z
UID:3055-1683468000-1683471600@aatampa.org
SUMMARY:District 2 GSR/DCM Sharing
DESCRIPTION:District 2 GSR/DCM Sharing Session\nWhen: 2pm – 3pm EST\nWhere:  Virtual\nZoom Meeting ID:\n962 6896 1514\nPassword:  District2\nContact:\naltchair@aatampa.org
URL:https://aatampa.org/event/gsr-dcm-sharing/
END:VEVENT
BEGIN:VEVENT
DTSTART;TZID=America/New_York:20230507T080000
DTEND;TZID=America/New_York:20230507T170000
DTSTAMP:20260421T174832
CREATED:20230507T173052Z
LAST-MODIFIED:20230507T203226Z
UID:3121-1683446400-1683478800@aatampa.org
SUMMARY:District 2 New GSR Orientation
DESCRIPTION:New GSR Orientation\n\n\nWhen: 2pm – 3pm EST\nWhere: Virtual\nZoom Meeting ID:\n962 6896 1514\nPassword:  District2\nContact: newgsr@aatampa.org
URL:https://aatampa.org/event/district-2-new-gsr-orientation-3/
END:VEVENT
BEGIN:VEVENT
DTSTART;TZID=America/New_York:20230506T093000
DTEND;TZID=America/New_York:20230506T103000
DTSTAMP:20260421T174832
CREATED:20230423T121852Z
LAST-MODIFIED:20230423T121947Z
UID:3083-1683365400-1683369000@aatampa.org
SUMMARY:District 2 Literature Committee Meeting
DESCRIPTION:District 2 Literature Committee Meeting\nMay 6\, 2023\, 9:30 am\nZoom Meeting ID: 941 0771 8348\nPasscode: Literature \n 
URL:https://aatampa.org/event/district-2-literature-committee-meeting/
END:VEVENT
BEGIN:VEVENT
DTSTART;TZID=America/New_York:20230424T180000
DTEND;TZID=America/New_York:20230424T190000
DTSTAMP:20260421T174832
CREATED:20230423T121255Z
LAST-MODIFIED:20230423T121326Z
UID:3072-1682359200-1682362800@aatampa.org
SUMMARY:District 2 Delegate Luncheon Committee Meeting
DESCRIPTION:District 2 Delegate Luncheon Committee Meeting\nEvery other Monday at 6:00 PM\nDates: April 10\, 2023\, April 24\, 2023\, May 1\, 2023\, May 8\, 2023\, May  22\, 2023 \nMeeting ID: 896 2193 6083\nPasscode: 06042023
URL:https://aatampa.org/event/3072/
END:VEVENT
BEGIN:VEVENT
DTSTART;VALUE=DATE:20230414
DTEND;VALUE=DATE:20230417
DTSTAMP:20260421T174832
CREATED:20220423T152209Z
LAST-MODIFIED:20230118T140706Z
UID:2432-1681430400-1681689599@aatampa.org
SUMMARY:2023 April Area Quarterly Assembly
DESCRIPTION:April-2023_QuarterlyFlyer_English \nApril-2023_QuarterlyFlyer_Spanish \nHosted by Districts 8 & 9\nTelephone for reservations\n1-888-421-1442 \nIf you need to cancel a hotel room\, please do so with hotelinfo@area15aa.org so the room can be released to the waitlist OR if you need a room\, please contact hotelinfo@area15aa.org to be placed on the waitlist. \nPlease share this info with those that may need it.
URL:https://aatampa.org/event/area-quarterly-assembly/
LOCATION:Boca Raton Marriott\, 5150 Town Center Circle\, Boca Raton\, FL\, 33486\, United States
END:VEVENT
BEGIN:VEVENT
DTSTART;VALUE=DATE:20230113
DTEND;VALUE=DATE:20230116
DTSTAMP:20260421T174832
CREATED:20221113T175842Z
LAST-MODIFIED:20221113T184745Z
UID:2838-1673568000-1673827199@aatampa.org
SUMMARY:South Florida Area 15 General Service Assembly
DESCRIPTION:Downloadable Flyers – \n2023 January – South Florida Area 15 General Service Assembly – ENGLISH \n2023 January – South Florida Area 15 General Service Assembly – SPANISH \n  \n 
URL:https://aatampa.org/event/south-florida-area-15-general-service-assembly/
LOCATION:Hyatt Regency Sarasota\, 1000 Boulevard of the Arts Sarasota\, Sarasota\, FL\, 34236\, United States
END:VEVENT
BEGIN:VEVENT
DTSTART;TZID=America/New_York:20221211T150000
DTEND;TZID=America/New_York:20221211T170000
DTSTAMP:20260421T174832
CREATED:20220402T145359Z
LAST-MODIFIED:20220402T145359Z
UID:2347-1670770800-1670778000@aatampa.org
SUMMARY:District 2 Business Meeting
DESCRIPTION:
URL:https://aatampa.org/event/district-2-business-meeting-7/
END:VEVENT
BEGIN:VEVENT
DTSTART;VALUE=DATE:20221210
DTEND;VALUE=DATE:20221211
DTSTAMP:20260421T174832
CREATED:20221113T225004Z
LAST-MODIFIED:20221113T225004Z
UID:2857-1670630400-1670716799@aatampa.org
SUMMARY:Service is Fun (hosted by the Outreach Committee)
DESCRIPTION:Downloadable Flyer: \nhttps://aatampa.org/wp-content/uploads/2022/11/2022-12-10-Service-is-Fun-Hosted-in-Cayman-Islands.pdf
URL:https://aatampa.org/event/service-is-fun-hosted-by-the-outreach-committee/
LOCATION:#17 NDC Office Caymanian Village\, North Sound Road\, Georgetown\, Cayman Islands
ORGANIZER;CN="Area 15 Outreach Committe":MAILTO:Outreach@area15aa.org
END:VEVENT
BEGIN:VEVENT
DTSTART;VALUE=DATE:20221202
DTEND;VALUE=DATE:20221205
DTSTAMP:20260421T174832
CREATED:20220423T141941Z
LAST-MODIFIED:20220423T142224Z
UID:2399-1669939200-1670198399@aatampa.org
SUMMARY:SE Regional Forum
DESCRIPTION:Flyer-Click for Registration Instructions
URL:https://aatampa.org/event/se-regional-forum/
LOCATION:Hilton New Orleans Airport\, 901 Airline Dr\, Kenner\, LA\, 70062\, United States
END:VEVENT
BEGIN:VEVENT
DTSTART;TZID=America/New_York:20221113T150000
DTEND;TZID=America/New_York:20221113T170000
DTSTAMP:20260421T174832
CREATED:20220402T145028Z
LAST-MODIFIED:20221016T162748Z
UID:2341-1668351600-1668358800@aatampa.org
SUMMARY:District 2 Business Meeting For November
DESCRIPTION:
URL:https://aatampa.org/event/district-2-business-meeting-5/
LOCATION:The Club\, 3333 West Columbus Drive\, Tampa\, FL\, 33607\, United States
END:VEVENT
BEGIN:VEVENT
DTSTART;VALUE=DATE:20221106
DTEND;VALUE=DATE:20221107
DTSTAMP:20260421T174832
CREATED:20220423T145534Z
LAST-MODIFIED:20221016T163543Z
UID:2418-1667692800-1667779199@aatampa.org
SUMMARY:AA Service Assembly
DESCRIPTION:Click for Flyer – English\nPossible Hotel Accommodations – English  \n \nClick here or Flyer – Spanish\nPossible Hotel Accommodations – Spanish
URL:https://aatampa.org/event/aa-service-assembly/
LOCATION:Highlands County Fair Association\, 781 Magnolia Avenue\, Sebring\, FL\, 33870\, United States
END:VEVENT
BEGIN:VEVENT
DTSTART;TZID=America/New_York:20221105T170000
DTEND;TZID=America/New_York:20221105T210000
DTSTAMP:20260421T174832
CREATED:20220618T194701Z
LAST-MODIFIED:20220926T093344Z
UID:2521-1667667600-1667682000@aatampa.org
SUMMARY:District 2 Gratitude Dinner 2022
DESCRIPTION:GRATITUDE DINNER IS BACK \nWHERE:  New Hope United Methodist Church – 213 N Knights Ave\, Brandon\, FL 33510.\nWHEN: Saturday 11/5/22 5pm – 9 pm\nTICKETS:  $20 Person + 1.20 for Pay Pal Fees (PURCHASE TICKETS BELOW! )\nDownloadable Flyer HERE\nDownloadable Volunteer Flyer – HERE\nDownloadable Contributions Flyer – HERE \nSOLD OUT!! \n USD
URL:https://aatampa.org/event/district-2-gratitude-dinner-2022/
LOCATION:New Hope United Methodist Church\, 213 N Knights Ave\, Brandon\, FL\, 33510\, United States
END:VEVENT
BEGIN:VEVENT
DTSTART;TZID=America/New_York:20221015T130000
DTEND;TZID=America/New_York:20221015T150000
DTSTAMP:20260421T174832
CREATED:20220828T191711Z
LAST-MODIFIED:20220828T191719Z
UID:2734-1665838800-1665846000@aatampa.org
SUMMARY:2022 Carry the Message Day Service Fair & Chili Cook Off
DESCRIPTION:
URL:https://aatampa.org/event/2022-carry-the-message-day-service-fair-chili-cook-off/
LOCATION:Club YANA\, 209 S. Tampania Ave\, Tampa\, FL\, 33609\, United States
END:VEVENT
BEGIN:VEVENT
DTSTART;VALUE=DATE:20220930
DTEND;VALUE=DATE:20221003
DTSTAMP:20260421T174832
CREATED:20220402T151109Z
LAST-MODIFIED:20221002T213713Z
UID:2359-1664496000-1664755199@aatampa.org
SUMMARY:Area Assembly (Quarterly) - POSTPONED
DESCRIPTION:Area Assembly (Quarterly) has been POSTPONED. We will add updates here as soon as we get them. \n  \nDownloadable Flyer – 2022 October Area 15 Quarterly Assembly Spanish  \nDownloadable Flyer – 2022 October Area 15 Quarterly Assembly 
URL:https://aatampa.org/event/area-assembly-quarterly-2/
LOCATION:Sanibel Harbour Marriott
END:VEVENT
BEGIN:VEVENT
DTSTART;TZID=America/New_York:20220925T150000
DTEND;TZID=America/New_York:20220925T170000
DTSTAMP:20260421T174832
CREATED:20220402T144936Z
LAST-MODIFIED:20220402T144936Z
UID:2339-1664118000-1664125200@aatampa.org
SUMMARY:District 2 Business Meeting (for October)
DESCRIPTION:
URL:https://aatampa.org/event/district-2-business-meeting-for-october/
END:VEVENT
BEGIN:VEVENT
DTSTART;TZID=America/New_York:20220917T131500
DTEND;TZID=America/New_York:20220917T154500
DTSTAMP:20260421T174832
CREATED:20220818T235441Z
LAST-MODIFIED:20220818T235441Z
UID:2694-1663420500-1663429500@aatampa.org
SUMMARY:Old School Group Presents - Traditions Workshop
DESCRIPTION:
URL:https://aatampa.org/event/old-school-group-presents-traditions-workshop/
LOCATION:Old School Group (Crystal Lakes Plaza)\, 18125 US Highway 41\, Lutz\, FL\, 33559\, United States
END:VEVENT
BEGIN:VEVENT
DTSTART;VALUE=DATE:20220902
DTEND;VALUE=DATE:20220906
DTSTAMP:20260421T174832
CREATED:20220402T140938Z
LAST-MODIFIED:20220423T152121Z
UID:2308-1662076800-1662422399@aatampa.org
SUMMARY:Tampa Bay Fall Roundup
DESCRIPTION:“Back To Basics – It Works – It Really Does” \nRegister online:  www.tampabayfallroundup.com
URL:https://aatampa.org/event/tampa-bay-fall-roundup/
LOCATION:Sheraton Tampa Brandon Hotel\, 10221 Princess Palm Ave\, Tampa\, FL\, 33610\, United States
END:VEVENT
BEGIN:VEVENT
DTSTART;TZID=America/New_York:20220828T150000
DTEND;TZID=America/New_York:20220828T170000
DTSTAMP:20260421T174832
CREATED:20220402T144445Z
LAST-MODIFIED:20220402T144511Z
UID:2334-1661698800-1661706000@aatampa.org
SUMMARY:District 2 Business Meeting (for September)
DESCRIPTION:
URL:https://aatampa.org/event/district-2-business-meeting-september/
END:VEVENT
BEGIN:VEVENT
DTSTART;TZID=America/New_York:20220827T164500
DTEND;TZID=America/New_York:20220827T210000
DTSTAMP:20260421T174832
CREATED:20220731T184214Z
LAST-MODIFIED:20220731T184214Z
UID:2636-1661618700-1661634000@aatampa.org
SUMMARY:12th Annual Promises Anniversary Dinner
DESCRIPTION:
URL:https://aatampa.org/event/12th-annual-promises-anniversary-dinner/
LOCATION:Kings Avenue Baptist Church\, 2602 S. Kings Avenue\, Brandon\, FL\, 33511\, United States
END:VEVENT
BEGIN:VEVENT
DTSTART;TZID=America/New_York:20220820T133000
DTEND;TZID=America/New_York:20220820T163000
DTSTAMP:20260421T174832
CREATED:20220423T150438Z
LAST-MODIFIED:20220423T151227Z
UID:2426-1661002200-1661013000@aatampa.org
SUMMARY:Mini Conference-Back to the Basics
DESCRIPTION:Zoom Meeting ID: 248 631 103 password: 3333 \nClick for details
URL:https://aatampa.org/event/mini-conference-back-to-the-basics/
END:VEVENT
BEGIN:VEVENT
DTSTART;VALUE=DATE:20220803
DTEND;VALUE=DATE:20220808
DTSTAMP:20260421T174832
CREATED:20220220T142530Z
LAST-MODIFIED:20220220T143000Z
UID:2226-1659484800-1659916799@aatampa.org
SUMMARY:65th Florida State Convention
DESCRIPTION:65 Florida State Convention Flier – English \n65 Florida State Convention Flier – Spanish
URL:https://aatampa.org/event/65-florida-state-convention/
LOCATION:Marriott Harbor Beach Resort & Spa\, 3030 Holiday Dr\, Fort Lauderdale\, 33316\, United States
END:VEVENT
BEGIN:VEVENT
DTSTART;TZID=America/New_York:20220731T150000
DTEND;TZID=America/New_York:20220731T170000
DTSTAMP:20260421T174832
CREATED:20220402T143155Z
LAST-MODIFIED:20220402T144532Z
UID:2332-1659279600-1659286800@aatampa.org
SUMMARY:District 2 Business Meeting (for August)
DESCRIPTION:
URL:https://aatampa.org/event/district-2-business-meeting-august-meeting/
END:VEVENT
BEGIN:VEVENT
DTSTART;TZID=America/New_York:20220731T140000
DTEND;TZID=America/New_York:20220731T150000
DTSTAMP:20260421T174832
CREATED:20220423T153718Z
LAST-MODIFIED:20220702T145011Z
UID:2434-1659276000-1659279600@aatampa.org
SUMMARY:GSR Orientation and GSR/DCM Sharing Session
DESCRIPTION:Different Events
URL:https://aatampa.org/event/gsr-orientation-and-sharing-session/
END:VEVENT
BEGIN:VEVENT
DTSTART;TZID=America/New_York:20220731T130000
DTEND;TZID=America/New_York:20220731T134500
DTSTAMP:20260421T174832
CREATED:20220423T142925Z
LAST-MODIFIED:20220702T144708Z
UID:2407-1659272400-1659275100@aatampa.org
SUMMARY:Comm/Tech Committee
DESCRIPTION:
URL:https://aatampa.org/event/comm-tech-committee/
END:VEVENT
BEGIN:VEVENT
DTSTART;TZID=America/New_York:20220727T190000
DTEND;TZID=America/New_York:20220727T200000
DTSTAMP:20260421T174832
CREATED:20220501T171857Z
LAST-MODIFIED:20220702T143918Z
UID:2456-1658948400-1658952000@aatampa.org
SUMMARY:Committee: Grapevine
DESCRIPTION:When: 4th Wednesday of each month at 7PM\nWhere: Virtual – Zoom\nZoom Meeting ID: 928 0941 1885\nPassword:  Grapevine
URL:https://aatampa.org/event/committee-grapevine/
END:VEVENT
END:VCALENDAR