BEGIN:VCALENDAR
VERSION:2.0
PRODID:-//AA District 2 - ECPv6.15.18//NONSGML v1.0//EN
CALSCALE:GREGORIAN
METHOD:PUBLISH
X-WR-CALNAME:AA District 2
X-ORIGINAL-URL:https://aatampa.org
X-WR-CALDESC:Events for AA District 2
REFRESH-INTERVAL;VALUE=DURATION:PT1H
X-Robots-Tag:noindex
X-PUBLISHED-TTL:PT1H
BEGIN:VTIMEZONE
TZID:America/New_York
BEGIN:DAYLIGHT
TZOFFSETFROM:-0500
TZOFFSETTO:-0400
TZNAME:EDT
DTSTART:20220313T070000
END:DAYLIGHT
BEGIN:STANDARD
TZOFFSETFROM:-0400
TZOFFSETTO:-0500
TZNAME:EST
DTSTART:20221106T060000
END:STANDARD
BEGIN:DAYLIGHT
TZOFFSETFROM:-0500
TZOFFSETTO:-0400
TZNAME:EDT
DTSTART:20230312T070000
END:DAYLIGHT
BEGIN:STANDARD
TZOFFSETFROM:-0400
TZOFFSETTO:-0500
TZNAME:EST
DTSTART:20231105T060000
END:STANDARD
BEGIN:DAYLIGHT
TZOFFSETFROM:-0500
TZOFFSETTO:-0400
TZNAME:EDT
DTSTART:20240310T070000
END:DAYLIGHT
BEGIN:STANDARD
TZOFFSETFROM:-0400
TZOFFSETTO:-0500
TZNAME:EST
DTSTART:20241103T060000
END:STANDARD
END:VTIMEZONE
BEGIN:VEVENT
DTSTART;TZID=America/New_York:20230702T140000
DTEND;TZID=America/New_York:20230702T150000
DTSTAMP:20260421T171604
CREATED:20230507T172911Z
LAST-MODIFIED:20230507T173023Z
UID:3118-1688306400-1688310000@aatampa.org
SUMMARY:District 2 GSR/DCM Sharing
DESCRIPTION:District 2 GSR/DCM Sharing\n\nJuly 2 @ 2:00 pm – 3:00 pm\n\n\n\nDistrict 2 GSR/DCM Sharing Session\nWhen: 2pm – 3pm EST\nWhere:  Virtual\nZoom Meeting ID:\n962 6896 1514\nPassword:  District2\nContact:\naltchair@aatampa.org
URL:https://aatampa.org/event/3118/
END:VEVENT
BEGIN:VEVENT
DTSTART;TZID=America/New_York:20230702T140000
DTEND;TZID=America/New_York:20230702T150000
DTSTAMP:20260421T171604
CREATED:20230410T104334Z
LAST-MODIFIED:20230507T173358Z
UID:3060-1688306400-1688310000@aatampa.org
SUMMARY:District 2 New GSR Orientation
DESCRIPTION:New GSR Orientation\nWhen: July 2 @ 2:00 pm – 3:00 pm\nWhere: Virtual\nZoom Meeting ID:\n962 6896 1514\nPassword:  District2\nContact: newgsr@aatampa.org
URL:https://aatampa.org/event/district-2-new-gsr-orientation-2/
END:VEVENT
BEGIN:VEVENT
DTSTART;TZID=America/New_York:20230701T093000
DTEND;TZID=America/New_York:20230701T103000
DTSTAMP:20260421T171604
CREATED:20230507T173606Z
LAST-MODIFIED:20230507T200619Z
UID:3128-1688203800-1688207400@aatampa.org
SUMMARY:District 2 Literature Committee Meeting
DESCRIPTION:District 2 Literature Committee Meeting\nJuly 1 @ 9:30 am – 10:30 am\nDistrict 2 Literature Committee Meeting\nZoom Meeting ID: 941 0771 8348\nPasscode: Literature
URL:https://aatampa.org/event/district-2-literature-committee-meeting-3/
END:VEVENT
BEGIN:VEVENT
DTSTART;TZID=America/New_York:20230630T190000
DTEND;TZID=America/New_York:20230630T200000
DTSTAMP:20260421T171604
CREATED:20230515T115338Z
LAST-MODIFIED:20230515T115338Z
UID:3213-1688151600-1688155200@aatampa.org
SUMMARY:Concepts Workshop 2023 presented by Area 15
DESCRIPTION:Concepts Workshop 2023 presented by Area 15 Committee Members and Past Delegates\nHosted by Area 15 Outreach Committee\nZoom Log-in: 841 3431 8042\nPassword: concepts\nConcepts Workshop 2023 v2
URL:https://aatampa.org/event/concepts-workshop-2023-presented-by-area-15-4/
END:VEVENT
BEGIN:VEVENT
DTSTART;TZID=America/New_York:20230627T190000
DTEND;TZID=America/New_York:20230627T200000
DTSTAMP:20260421T171604
CREATED:20230506T213723Z
LAST-MODIFIED:20230507T200648Z
UID:3109-1687892400-1687896000@aatampa.org
SUMMARY:District 2 Finance Committee Meeting
DESCRIPTION:District 2 Finance Committee Meeting\nContact info: finance@aatampa.org\nWhen: Fourth Tuesday of each month at 7pm EST\nWhere: Virtual – Zoom\nMeeting ID: 980 6131 4288\nPasscode: Money
URL:https://aatampa.org/event/district-2-finance-committee-meeting-2/
END:VEVENT
BEGIN:VEVENT
DTSTART;TZID=America/New_York:20230622T190000
DTEND;TZID=America/New_York:20230622T200000
DTSTAMP:20260421T171604
CREATED:20230515T115304Z
LAST-MODIFIED:20230515T115304Z
UID:3211-1687460400-1687464000@aatampa.org
SUMMARY:Concepts Workshop 2023 presented by Area 15
DESCRIPTION:Concepts Workshop 2023 presented by Area 15 Committee Members and Past Delegates\nHosted by Area 15 Outreach Committee\nZoom Log-in: 841 3431 8042\nPassword: concepts\nConcepts Workshop 2023 v2
URL:https://aatampa.org/event/concepts-workshop-2023-presented-by-area-15-3/
END:VEVENT
BEGIN:VEVENT
DTSTART;TZID=America/New_York:20230620T190000
DTEND;TZID=America/New_York:20230620T200000
DTSTAMP:20260421T171604
CREATED:20230506T213403Z
LAST-MODIFIED:20230507T200715Z
UID:3103-1687287600-1687291200@aatampa.org
SUMMARY:District 2 Current Practices Meeting
DESCRIPTION:District 2 Current Practices Meeting\nContact info: currentpractice@aatampa.org\nWhen: 3rd Tuesday of the Month\nWhere: Virtual – Zoom\nZoom Meeting ID: 881 8592 8987\nPasscode: current
URL:https://aatampa.org/event/district-2-current-practices-meeting-3/
END:VEVENT
BEGIN:VEVENT
DTSTART;TZID=America/New_York:20230617T130000
DTEND;TZID=America/New_York:20230617T143000
DTSTAMP:20260421T171604
CREATED:20230508T195509Z
LAST-MODIFIED:20230508T195509Z
UID:3191-1687006800-1687012200@aatampa.org
SUMMARY:District 12 Area 15 Delegate Report with Cary W.
DESCRIPTION:District 12 Area 15 Delegate Report with Cary W.\nSaturday\, June 17\, 2023\n1:00 PM – 2:30 PM\nVirtual\nZoom ID:  87522554689\nPasscode: gsc73
URL:https://aatampa.org/event/district-12-area-15-delegate-report-with-cary-w/
END:VEVENT
BEGIN:VEVENT
DTSTART;TZID=America/New_York:20230617T090000
DTEND;TZID=America/New_York:20230617T100000
DTSTAMP:20260421T171604
CREATED:20230506T213626Z
LAST-MODIFIED:20230507T171743Z
UID:3107-1686992400-1686996000@aatampa.org
SUMMARY:District 2 Public Information & Cooperation with the Professional Community
DESCRIPTION:Public Information & Cooperation with the Professional Community\nContact Info: pi-cpc@aatampa.org\nWhen: 3rd Saturday of every month 9:00am\nWhere: Virtual – Zoom\nZoom Meeting ID:  927 439 9087\nPassword:  5wnNy3
URL:https://aatampa.org/event/public-information-cooperation-with-the-professional-community/
END:VEVENT
BEGIN:VEVENT
DTSTART;TZID=America/New_York:20230614T190000
DTEND;TZID=America/New_York:20230614T200000
DTSTAMP:20260421T171604
CREATED:20230515T115220Z
LAST-MODIFIED:20230515T115220Z
UID:3209-1686769200-1686772800@aatampa.org
SUMMARY:Concepts Workshop 2023 presented by Area 15
DESCRIPTION:Concepts Workshop 2023 presented by Area 15 Committee Members and Past Delegates\nHosted by Area 15 Outreach Committee\nZoom Log-in: 841 3431 8042\nPassword: concepts\nConcepts Workshop 2023 v2
URL:https://aatampa.org/event/concepts-workshop-2023-presented-by-area-15-2/
END:VEVENT
BEGIN:VEVENT
DTSTART;TZID=America/New_York:20230611T130000
DTEND;TZID=America/New_York:20230611T143000
DTSTAMP:20260421T171604
CREATED:20230508T170002Z
LAST-MODIFIED:20230508T170002Z
UID:3186-1686488400-1686493800@aatampa.org
SUMMARY:District 11 Area 15 Delegate Report with Cary W.
DESCRIPTION:District 11 Area 15 Delegate Report with Cary W.\nSunday\, June 11\, 2023\nVirtual\nZoom ID: 85299306082\nPasscode: gsc73
URL:https://aatampa.org/event/district-11-area-15-delegate-report-with-cary-w/
END:VEVENT
BEGIN:VEVENT
DTSTART;TZID=America/New_York:20230610T093000
DTEND;TZID=America/New_York:20230610T103000
DTSTAMP:20260421T171604
CREATED:20230506T213519Z
LAST-MODIFIED:20230506T213519Z
UID:3105-1686389400-1686393000@aatampa.org
SUMMARY:TBAIC/Institutions Committee Meeting
DESCRIPTION:TBAIC/Institutions Committee Meeting\nContact info: tbaic@aatampa.org\nWhen: Second Saturday of each month  9:30 am\nWhere: Virtual – Zoom\nZoom Meeting ID: 345 781 6796\nPassword:  274T4N
URL:https://aatampa.org/event/tbaic-institutions-committee-meeting-2/
END:VEVENT
BEGIN:VEVENT
DTSTART;TZID=America/New_York:20230605T190000
DTEND;TZID=America/New_York:20230605T200000
DTSTAMP:20260421T171604
CREATED:20230515T115052Z
LAST-MODIFIED:20230515T115142Z
UID:3204-1685991600-1685995200@aatampa.org
SUMMARY:Concepts Workshop 2023 presented by Area 15
DESCRIPTION:Concepts Workshop 2023 presented by Area 15 Committee Members and Past Delegates\nHosted by Area 15 Outreach Committee\nZoom Log-in: 841 3431 8042\nPassword: concepts\nConcepts Workshop 2023 v2
URL:https://aatampa.org/event/concepts-workshop-2023-presented-by-area-15/
END:VEVENT
BEGIN:VEVENT
DTSTART;TZID=America/New_York:20230604T133000
DTEND;TZID=America/New_York:20230604T170000
DTSTAMP:20260421T171604
CREATED:20230410T230252Z
LAST-MODIFIED:20230507T183548Z
UID:3062-1685885400-1685898000@aatampa.org
SUMMARY:2023 District 2 Delegate Luncheon
DESCRIPTION:2023 Delegate Luncheon\nWhen: 1:30pm – 5pm EST\nWhere: Hybrid (In Person & Virtual)\n3333 W Columbus Dr\nTampa\, FL 33607 OR\nZoom Meeting ID:\n962 6896 1514\nPassword:  District2 \nFood @ 1:30pm\, Delegate’s Report @ 3pm \nContact:\nChair@aatampa.org
URL:https://aatampa.org/event/2023-delegate-luncheon/
END:VEVENT
BEGIN:VEVENT
DTSTART;TZID=America/New_York:20230603T133000
DTEND;TZID=America/New_York:20230603T160000
DTSTAMP:20260421T171604
CREATED:20230507T190401Z
LAST-MODIFIED:20230507T190401Z
UID:3144-1685799000-1685808000@aatampa.org
SUMMARY:Old School Group presents AA Sponsorship Workshop
DESCRIPTION:Old School Group presents AA Sponsorship Workshop\nSaturday\, June 3\, 2023\n18125 N. Highway 41\, Lutz\, FL 33548\nPlease park to the North of the Building\nFree Admission\n2023 Sponsorship workshop at OSG
URL:https://aatampa.org/event/old-school-group-presents-aa-sponsorship-workshop/
END:VEVENT
BEGIN:VEVENT
DTSTART;TZID=America/New_York:20230603T110000
DTEND;TZID=America/New_York:20230603T120000
DTSTAMP:20260421T171604
CREATED:20230423T125450Z
LAST-MODIFIED:20230423T125450Z
UID:3097-1685790000-1685793600@aatampa.org
SUMMARY:District 2 Delegate Luncheon Committee Meeting
DESCRIPTION:District 2 Delegate Luncheon Committee Meeting\nMeeting ID: 896 2193 6083\nPasscode: 06042023
URL:https://aatampa.org/event/district-2-delegate-luncheon-committee-meeting-5/
END:VEVENT
BEGIN:VEVENT
DTSTART;TZID=America/New_York:20230603T093000
DTEND;TZID=America/New_York:20230603T103000
DTSTAMP:20260421T171604
CREATED:20230506T213203Z
LAST-MODIFIED:20230506T213203Z
UID:3100-1685784600-1685788200@aatampa.org
SUMMARY:District 2 Literature Committee Meeting
DESCRIPTION:District 2 Literature Committee Meeting\nJune 3\, 2023\, 9:30 am\nZoom Meeting ID: 941 0771 8348\nPasscode: Literature
URL:https://aatampa.org/event/district-2-literature-committee-meeting-2/
END:VEVENT
BEGIN:VEVENT
DTSTART;TZID=America/New_York:20230601T180000
DTEND;TZID=America/New_York:20230601T190000
DTSTAMP:20260421T171604
CREATED:20230423T125358Z
LAST-MODIFIED:20230423T125358Z
UID:3095-1685642400-1685646000@aatampa.org
SUMMARY:District 2 Delegate Luncheon Committee Meeting
DESCRIPTION:District 2 Delegate Luncheon Committee Meeting\nMeeting ID: 896 2193 6083\nPasscode: 06042023
URL:https://aatampa.org/event/district-2-delegate-luncheon-committee-meeting-4/
END:VEVENT
BEGIN:VEVENT
DTSTART;VALUE=DATE:20230601
DTEND;VALUE=DATE:20230605
DTSTAMP:20260421T171604
CREATED:20230507T192610Z
LAST-MODIFIED:20230507T192610Z
UID:3148-1685577600-1685923199@aatampa.org
SUMMARY:EACYPAA 2023
DESCRIPTION:EACYPAA 2023\nHosted June 1st – 4th in St Pete\, Florida\nhttps://eacypaa2023.com/?fbclid=IwAR3b8rNTRBGAwT7XRgwuvXBIkIalY7GyQ5ujIROkyHtp6tjffB-gLbtNOeo
URL:https://aatampa.org/event/eacypaa-2023/
END:VEVENT
BEGIN:VEVENT
DTSTART;TZID=America/New_York:20230523T190000
DTEND;TZID=America/New_York:20230523T200000
DTSTAMP:20260421T171604
CREATED:20230423T122337Z
LAST-MODIFIED:20230423T122337Z
UID:3087-1684868400-1684872000@aatampa.org
SUMMARY:District 2 Finance Committee Meeting
DESCRIPTION:District 2 Finance Committee Meeting\nContact info: finance@aatampa.org\nWhen: Fourth Tuesday of each month at 7pm EST\nWhere: Virtual – Zoom\nMeeting ID: 980 6131 4288\nPasscode: Money
URL:https://aatampa.org/event/district-2-finance-committee-meeting/
END:VEVENT
BEGIN:VEVENT
DTSTART;TZID=America/New_York:20230522T180000
DTEND;TZID=America/New_York:20230522T190000
DTSTAMP:20260421T171604
CREATED:20230423T121601Z
LAST-MODIFIED:20230423T121601Z
UID:3081-1684778400-1684782000@aatampa.org
SUMMARY:District 2 Delegate Luncheon Committee Meeting
DESCRIPTION:District 2 Delegate Luncheon Committee Meeting\nEvery other Monday at 6:00 PM\nDates: April 10\, 2023\, April 24\, 2023\, May 1\, 2023\, May 8\, 2023\, May  22\, 2023 \nMeeting ID: 896 2193 6083\nPasscode: 06042023
URL:https://aatampa.org/event/district-2-delegate-luncheon-committee-meeting-3/
END:VEVENT
BEGIN:VEVENT
DTSTART;TZID=America/New_York:20230520T090000
DTEND;TZID=America/New_York:20230520T130000
DTSTAMP:20260421T171604
CREATED:20230508T165703Z
LAST-MODIFIED:20230508T170034Z
UID:3184-1684573200-1684587600@aatampa.org
SUMMARY:District 4 Area 15 Delegate Report with Cary W.
DESCRIPTION:District 4 Area 15 Delegate Report with Cary W.\nSaturday\, 5/20/2023\n10 AM – 1 PM (Business Meeting 9 AM – 10 AM)\nHybrid\nZoom ID:  83487334103\nPasscode:  346209
URL:https://aatampa.org/event/district-4-area-15-delegate-report-with-cary-w/
END:VEVENT
BEGIN:VEVENT
DTSTART;TZID=America/New_York:20230520T090000
DTEND;TZID=America/New_York:20230520T100000
DTSTAMP:20260421T171604
CREATED:20230423T122151Z
LAST-MODIFIED:20230423T122151Z
UID:3085-1684573200-1684576800@aatampa.org
SUMMARY:District 2 Public Information & Cooperation with the Professional Community Meeting
DESCRIPTION:Public Information & Cooperation with the Professional Community\nContact Info: pi-cpc@aatampa.org\nWhen: 3rd Saturday of every month 9:00am\nWhere: Virtual – Zoom\nZoom Meeting ID:  927 439 9087\nPassword:  5wnNy3
URL:https://aatampa.org/event/district-2-public-information-cooperation-with-the-professional-community-meeting/
END:VEVENT
BEGIN:VEVENT
DTSTART;TZID=America/New_York:20230516T190000
DTEND;TZID=America/New_York:20230516T200000
DTSTAMP:20260421T171604
CREATED:20230423T122515Z
LAST-MODIFIED:20230423T125017Z
UID:3089-1684263600-1684267200@aatampa.org
SUMMARY:District 2 Current Practices Meeting 
DESCRIPTION:District 2 Current Practices Meeting\nContact info: currentpractice@aatampa.org\nWhen: 3rd Tuesday of the Month\nWhere: Virtual – Zoom\nZoom Meeting ID: 881 8592 8987\nPasscode: current
URL:https://aatampa.org/event/district-2-current-practices-meeting/
END:VEVENT
BEGIN:VEVENT
DTSTART;TZID=America/New_York:20230516T170000
DTEND;TZID=America/New_York:20230516T180000
DTSTAMP:20260421T171604
CREATED:20230508T165327Z
LAST-MODIFIED:20230508T170101Z
UID:3182-1684256400-1684260000@aatampa.org
SUMMARY:Districts 1 & 5 Area 15 Delegate Report 60 Minutes of Q&A with Cary W.
DESCRIPTION:Districts 1 & 5 Area 15 Delegate Report 60 Minutes of Q&A with Cary W.\nTuesday\, 5/16/2023\n5:30 PM – 6:30 PM\nHybrid\nZoom ID:  91855028568\nPasscode:  D1Service
URL:https://aatampa.org/event/districts-1-5-area-15-delegate-report-60-minutes-of-qa-with-cary-w/
END:VEVENT
BEGIN:VEVENT
DTSTART;TZID=America/New_York:20230513T093000
DTEND;TZID=America/New_York:20230513T103000
DTSTAMP:20260421T171604
CREATED:20230423T122643Z
LAST-MODIFIED:20230423T122643Z
UID:3091-1683970200-1683973800@aatampa.org
SUMMARY:TBAIC/Institutions Committee Meeting
DESCRIPTION:TBAIC/Institutions Committee Meeting\nContact info: tbaic@aatampa.org\nWhen: Second Saturday of each month  9:30 am\nWhere: Virtual – Zoom\nZoom Meeting ID: 345 781 6796\nPassword:  274T4N \n 
URL:https://aatampa.org/event/tbaic-institutions-committee-meeting/
END:VEVENT
BEGIN:VEVENT
DTSTART;TZID=America/New_York:20230509T190000
DTEND;TZID=America/New_York:20230509T200000
DTSTAMP:20260421T171604
CREATED:20230423T125154Z
LAST-MODIFIED:20230507T201301Z
UID:3093-1683658800-1683662400@aatampa.org
SUMMARY:District 2 Current Practices Meeting
DESCRIPTION:District 2 Current Practices Meeting\nContact info: currentpractice@aatampa.org\nWhen: 3rd Tuesday of the Month\, special meeting on 5/9/23\nWhere: Virtual – Zoom\nZoom Meeting ID: 881 8592 8987\nPasscode: current
URL:https://aatampa.org/event/district-2-current-practices-meeting-2/
END:VEVENT
BEGIN:VEVENT
DTSTART;TZID=America/New_York:20230508T180000
DTEND;TZID=America/New_York:20230508T190000
DTSTAMP:20260421T171604
CREATED:20230423T121527Z
LAST-MODIFIED:20230423T121527Z
UID:3078-1683568800-1683572400@aatampa.org
SUMMARY:District 2 Delegate Luncheon Committee Meeting
DESCRIPTION:District 2 Delegate Luncheon Committee Meeting\nEvery other Monday at 6:00 PM\nDates: April 10\, 2023\, April 24\, 2023\, May 1\, 2023\, May 8\, 2023\, May  22\, 2023 \nMeeting ID: 896 2193 6083\nPasscode: 06042023
URL:https://aatampa.org/event/district-2-delegate-luncheon-committee-meeting-2/
END:VEVENT
BEGIN:VEVENT
DTSTART;TZID=America/New_York:20230507T140000
DTEND;TZID=America/New_York:20230507T150000
DTSTAMP:20260421T171604
CREATED:20230410T104059Z
LAST-MODIFIED:20230410T104201Z
UID:3055-1683468000-1683471600@aatampa.org
SUMMARY:District 2 GSR/DCM Sharing
DESCRIPTION:District 2 GSR/DCM Sharing Session\nWhen: 2pm – 3pm EST\nWhere:  Virtual\nZoom Meeting ID:\n962 6896 1514\nPassword:  District2\nContact:\naltchair@aatampa.org
URL:https://aatampa.org/event/gsr-dcm-sharing/
END:VEVENT
BEGIN:VEVENT
DTSTART;TZID=America/New_York:20230507T080000
DTEND;TZID=America/New_York:20230507T170000
DTSTAMP:20260421T171604
CREATED:20230507T173052Z
LAST-MODIFIED:20230507T203226Z
UID:3121-1683446400-1683478800@aatampa.org
SUMMARY:District 2 New GSR Orientation
DESCRIPTION:New GSR Orientation\n\n\nWhen: 2pm – 3pm EST\nWhere: Virtual\nZoom Meeting ID:\n962 6896 1514\nPassword:  District2\nContact: newgsr@aatampa.org
URL:https://aatampa.org/event/district-2-new-gsr-orientation-3/
END:VEVENT
END:VCALENDAR