BEGIN:VCALENDAR
VERSION:2.0
PRODID:-//AA District 2 - ECPv6.15.18//NONSGML v1.0//EN
CALSCALE:GREGORIAN
METHOD:PUBLISH
X-WR-CALNAME:AA District 2
X-ORIGINAL-URL:https://aatampa.org
X-WR-CALDESC:Events for AA District 2
REFRESH-INTERVAL;VALUE=DURATION:PT1H
X-Robots-Tag:noindex
X-PUBLISHED-TTL:PT1H
BEGIN:VTIMEZONE
TZID:America/New_York
BEGIN:DAYLIGHT
TZOFFSETFROM:-0500
TZOFFSETTO:-0400
TZNAME:EDT
DTSTART:20220313T070000
END:DAYLIGHT
BEGIN:STANDARD
TZOFFSETFROM:-0400
TZOFFSETTO:-0500
TZNAME:EST
DTSTART:20221106T060000
END:STANDARD
BEGIN:DAYLIGHT
TZOFFSETFROM:-0500
TZOFFSETTO:-0400
TZNAME:EDT
DTSTART:20230312T070000
END:DAYLIGHT
BEGIN:STANDARD
TZOFFSETFROM:-0400
TZOFFSETTO:-0500
TZNAME:EST
DTSTART:20231105T060000
END:STANDARD
BEGIN:DAYLIGHT
TZOFFSETFROM:-0500
TZOFFSETTO:-0400
TZNAME:EDT
DTSTART:20240310T070000
END:DAYLIGHT
BEGIN:STANDARD
TZOFFSETFROM:-0400
TZOFFSETTO:-0500
TZNAME:EST
DTSTART:20241103T060000
END:STANDARD
END:VTIMEZONE
BEGIN:VEVENT
DTSTART;TZID=America/New_York:20231114T190000
DTEND;TZID=America/New_York:20231114T200000
DTSTAMP:20260420T210424
CREATED:20231007T183157Z
LAST-MODIFIED:20231007T183157Z
UID:3456-1699988400-1699992000@aatampa.org
SUMMARY:Central Office Meeting – District 2 Central Office Liaison
DESCRIPTION:Central Office Liaison\n\n\nContact info: centralofficeliasion@aatampa.org\nWhen: Central Office meets the 2nd Tuesday of every month @ 7pm\nWhere: Virtual – Zoom\n8019 N Himes Ave\, Suite 104\, Tampa\, FL 33614-2712
URL:https://aatampa.org/event/central-office-meeting-district-2-central-office-liaison-2/
END:VEVENT
BEGIN:VEVENT
DTSTART;TZID=America/New_York:20231112T090000
DTEND;TZID=America/New_York:20231112T100000
DTSTAMP:20260420T210424
CREATED:20231007T183911Z
LAST-MODIFIED:20231011T003939Z
UID:3464-1699779600-1699783200@aatampa.org
SUMMARY:District 2 Public Information & Cooperation with the Professional Community
DESCRIPTION:Public Information & Cooperation with the Professional Community\nContact Info: pi-cpc@aatampa.org\nWhen: 3rd Saturday of every month 9:00am\nWhere: Virtual – Zoom\nZoom Meeting ID:  927 439 9087\nPassword:  5wnNy3
URL:https://aatampa.org/event/district-2-public-information-cooperation-with-the-professional-community-2/
END:VEVENT
BEGIN:VEVENT
DTSTART;TZID=America/New_York:20231111T160000
DTEND;TZID=America/New_York:20231111T200000
DTSTAMP:20260420T210424
CREATED:20231019T114603Z
LAST-MODIFIED:20231019T114607Z
UID:3603-1699718400-1699732800@aatampa.org
SUMMARY:Nightly Newcomers Fall Fest
DESCRIPTION:Nightly Newcomers Fall Fest\nSaturday\, November 11\, 2023\n4pm-8pm\n3333 West Columbus Avenue\nTampa\, Florida\n20231111 TBYPAA Fall Fest
URL:https://aatampa.org/event/nightly-newcomers-fall-fest/
END:VEVENT
BEGIN:VEVENT
DTSTART;TZID=America/New_York:20231111T133000
DTEND;TZID=America/New_York:20231111T163000
DTSTAMP:20260420T210424
CREATED:20231011T232101Z
LAST-MODIFIED:20231012T121858Z
UID:3565-1699709400-1699720200@aatampa.org
SUMMARY:12x12x12 Workshop
DESCRIPTION:12x12x12 Workshop\nTwelve Steps\, Twelve Traditions and 12 Concepts\n18125 US Hwy 41 N. Suite 102\nLutz\, FL\n12x12x12 OSG Workshop Flyer
URL:https://aatampa.org/event/12x12x12-workshop/
END:VEVENT
BEGIN:VEVENT
DTSTART;TZID=America/New_York:20231111T093000
DTEND;TZID=America/New_York:20231111T103000
DTSTAMP:20260420T210424
CREATED:20231007T184032Z
LAST-MODIFIED:20231007T184032Z
UID:3466-1699695000-1699698600@aatampa.org
SUMMARY:TBAIC/Institutions District 2 Liaison
DESCRIPTION:TBAIC/Institutions Liaison\nContact info: tbaic@aatampa.org\nWhen: Second Saturday of each month  9:30 am\nWhere: Virtual – Zoom\nZoom Meeting ID: 345 781 6796\nPassword:  274T4N
URL:https://aatampa.org/event/tbaic-institutions-district-2-liaison/
END:VEVENT
BEGIN:VEVENT
DTSTART;TZID=America/New_York:20231109T190000
DTEND;TZID=America/New_York:20231109T200000
DTSTAMP:20260420T210424
CREATED:20231008T215536Z
LAST-MODIFIED:20231008T215556Z
UID:3548-1699556400-1699560000@aatampa.org
SUMMARY:The Service Manual Virtual Series
DESCRIPTION:The Service Manual Virtual Series\nNovember 9 @ 7:00 pm – 8:00 pm\n\nService-Manual-Workshop_Color_InclSchedule
URL:https://aatampa.org/event/3548/
END:VEVENT
BEGIN:VEVENT
DTSTART;TZID=America/New_York:20231109T180000
DTEND;TZID=America/New_York:20231109T190000
DTSTAMP:20260420T210424
CREATED:20231007T210125Z
LAST-MODIFIED:20231007T210125Z
UID:3538-1699552800-1699556400@aatampa.org
SUMMARY:Area 15 District Chairpersons’/Alternate Chairpersons’ Sharing Session
DESCRIPTION:Area 15 District Chairpersons’/Alternate Chairpersons’ Sharing Session\n6 p.m. on the second Thursday of the month\nMeeting ID: 875 0122 0437\nPasscode: 847593
URL:https://aatampa.org/event/area-15-district-chairpersons-alternate-chairpersons-sharing-session-2/
END:VEVENT
BEGIN:VEVENT
DTSTART;TZID=America/New_York:20231105T150000
DTEND;TZID=America/New_York:20231105T170000
DTSTAMP:20260420T210424
CREATED:20231007T182319Z
LAST-MODIFIED:20231007T182319Z
UID:3448-1699196400-1699203600@aatampa.org
SUMMARY:District 2 Monthly Business Meeting
DESCRIPTION:Business Meeting When: 3pm – 5pm EST Where: Hybrid (In Person & Virtual) 3333 W Columbus Dr Tampa\, FL 33607 OR Zoom Meeting ID: 962 6896 1514 Password:  District2 Contact: Chair@aatampa.org
URL:https://aatampa.org/event/district-2-monthly-business-meeting/
END:VEVENT
BEGIN:VEVENT
DTSTART;TZID=America/New_York:20231105T140000
DTEND;TZID=America/New_York:20231105T150000
DTSTAMP:20260420T210424
CREATED:20231007T182628Z
LAST-MODIFIED:20231007T182628Z
UID:3452-1699192800-1699196400@aatampa.org
SUMMARY:New GSR Orientation
DESCRIPTION:New GSR Orientation\nWhen: 2pm – 3pm EST\nWhere: Virtual Zoom Meeting ID: 962 6896 1514 Password:  District2 Contact: newgsr@aatampa.org
URL:https://aatampa.org/event/new-gsr-orientation-3/
END:VEVENT
BEGIN:VEVENT
DTSTART;TZID=America/New_York:20231105T140000
DTEND;TZID=America/New_York:20231105T150000
DTSTAMP:20260420T210424
CREATED:20231007T182501Z
LAST-MODIFIED:20231007T182501Z
UID:3450-1699192800-1699196400@aatampa.org
SUMMARY:District 2 GSR/DCM Sharing Session
DESCRIPTION:District 2 GSR/DCM Sharing Session\nWhen: 2pm – 3pm EST\nWhere:  Virtual Zoom Meeting ID: 962 6896 1514 Password:  District2 Contact: altchair@aatampa.org
URL:https://aatampa.org/event/district-2-gsr-dcm-sharing-session-3/
END:VEVENT
BEGIN:VEVENT
DTSTART;TZID=America/New_York:20231105T130000
DTEND;TZID=America/New_York:20231105T140000
DTSTAMP:20260420T210424
CREATED:20231007T182819Z
LAST-MODIFIED:20231007T183037Z
UID:3454-1699189200-1699192800@aatampa.org
SUMMARY:District 2 Communication Technology Committee
DESCRIPTION:Communications Technology\nContact Info: communicationstechnology@aatampa.org\nWhen: Same Sunday as District Meetings 1:00pm – 1:45pm\nWhere: Virtual – Zoom Zoom Meeting ID:  962 6896 1514 Password:  District2
URL:https://aatampa.org/event/district-2-communication-technology-committee/
END:VEVENT
BEGIN:VEVENT
DTSTART;TZID=America/New_York:20231104T170000
DTEND;TZID=America/New_York:20231104T210000
DTSTAMP:20260420T210424
CREATED:20230827T144824Z
LAST-MODIFIED:20230828T114541Z
UID:3362-1699117200-1699131600@aatampa.org
SUMMARY:District 2 Annual Gratitude Dinner
DESCRIPTION:District 2 Annual Gratitude Dinner\nNovember 4\, 2023 5 PM – 9 PM\nNew Hope Church\nBrandon\, FL 33510\nTickets are $20.00\nGraditude dinner flyer 
URL:https://aatampa.org/event/district-2-annual-gratitude-dinner/
END:VEVENT
BEGIN:VEVENT
DTSTART;TZID=America/New_York:20231104T170000
DTEND;TZID=America/New_York:20231104T210000
DTSTAMP:20260420T210424
CREATED:20230817T154421Z
LAST-MODIFIED:20230912T234155Z
UID:3294-1699117200-1699131600@aatampa.org
SUMMARY:2023 Gratitude Dinner!!
DESCRIPTION:20231104 District 2 Graditude Dinner flyer \n2023 Gratitude DinnerQuantity:Name:Price:Description:Sold Out1 Ticket21.23 USD$20.00 plus paypal feeSold Out1 Table124.84 USD$20.00/person plus paypal fee. Table seats 6 peopleYour eTicket will be emailed after payment to your PayPal email address. \n  \n 
URL:https://aatampa.org/event/2023-gratitude-dinner/
LOCATION:New Hope United Methodist Church\, 213 N Knights Ave\, Brandon\, FL\, 33510\, United States
END:VEVENT
BEGIN:VEVENT
DTSTART;TZID=America/New_York:20231104T093000
DTEND;TZID=America/New_York:20231104T223000
DTSTAMP:20260420T210424
CREATED:20231007T183757Z
LAST-MODIFIED:20231007T183757Z
UID:3462-1699090200-1699137000@aatampa.org
SUMMARY:District 2 Literature Committee Meeting
DESCRIPTION:Literature Committee Meeting\n9:30 am\nZoom Meeting ID: 941 0771 8348\nPasscode: Literature
URL:https://aatampa.org/event/district-2-literature-committee-meeting-5/
END:VEVENT
BEGIN:VEVENT
DTSTART;TZID=America/New_York:20231028T194500
DTEND;TZID=America/New_York:20231028T235900
DTSTAMP:20260420T210424
CREATED:20231019T113951Z
LAST-MODIFIED:20231020T001604Z
UID:3599-1698522300-1698537540@aatampa.org
SUMMARY:TBYPAA's First Annual Halloween Dance
DESCRIPTION:TBYPAA’s First Annual Halloween Dance\nSaturday\, October 28\, 2023\n3333 Columbus Drive\nTampa\, FL\nTBYPAA’s 1st Annual Halloween Dance
URL:https://aatampa.org/event/tbypaas-first-annual-halloween-dance/
END:VEVENT
BEGIN:VEVENT
DTSTART;VALUE=DATE:20231028
DTEND;VALUE=DATE:20231029
DTSTAMP:20260420T210424
CREATED:20231012T202457Z
LAST-MODIFIED:20231012T202618Z
UID:3585-1698451200-1698537599@aatampa.org
SUMMARY:Halloween Dance @ 301 House!
DESCRIPTION:Printable Flyer 
URL:https://aatampa.org/event/halloween-dance-301-house/
LOCATION:301 House\, 8601 Bowles Road\, Tampa\, FL\, 33637\, United States
END:VEVENT
BEGIN:VEVENT
DTSTART;TZID=America/New_York:20231026T190000
DTEND;TZID=America/New_York:20231026T200000
DTSTAMP:20260420T210424
CREATED:20231008T215443Z
LAST-MODIFIED:20231008T215443Z
UID:3546-1698346800-1698350400@aatampa.org
SUMMARY:The Service Manual Virtual Series
DESCRIPTION:The Service Manual Virtual Series\n\nOctober 26 @ 7:00 pm – 8:00 pm \nService-Manual-Workshop_Color_InclSchedule
URL:https://aatampa.org/event/the-service-manual-virtual-series-2/
END:VEVENT
BEGIN:VEVENT
DTSTART;TZID=America/New_York:20231026T180000
DTEND;TZID=America/New_York:20231026T190000
DTSTAMP:20260420T210424
CREATED:20231007T203750Z
LAST-MODIFIED:20231007T203940Z
UID:3514-1698343200-1698346800@aatampa.org
SUMMARY:Area 15 Accessibilities Committee Meeting
DESCRIPTION:Area 15 Accessibilities Committee Meetings\n6 p.m. on the fourth Thursday of the month\nMeeting ID: 812 9692 4006\nPasscode: 183216
URL:https://aatampa.org/event/area-15-accessibilities-committee-meeting-2/
END:VEVENT
BEGIN:VEVENT
DTSTART;TZID=America/New_York:20231024T190000
DTEND;TZID=America/New_York:20231024T200000
DTSTAMP:20260420T210424
CREATED:20231007T191846Z
LAST-MODIFIED:20231007T191846Z
UID:3476-1698174000-1698177600@aatampa.org
SUMMARY:District 2 Finance Committee Meeting
DESCRIPTION:Finance\nContact info: finance@aatampa.org\nWhen: Fourth Tuesday of each month at 7pm EST\nWhere: Virtual – Zoom\nMeeting ID: 980 6131 4288\nPasscode: Money
URL:https://aatampa.org/event/district-2-finance-committee-meeting-6/
END:VEVENT
BEGIN:VEVENT
DTSTART;TZID=America/New_York:20231021T090000
DTEND;TZID=America/New_York:20231021T100000
DTSTAMP:20260420T210424
CREATED:20231007T191451Z
LAST-MODIFIED:20231007T191451Z
UID:3472-1697878800-1697882400@aatampa.org
SUMMARY:Public Information & Cooperation with the Professional Community Committee
DESCRIPTION:Public Information & Cooperation with the Professional Community\nContact Info: pi-cpc@aatampa.org\nWhen: 3rd Saturday of every month 9:00am\nWhere: Virtual – Zoom\nZoom Meeting ID:  927 439 9087\nPassword:  5wnNy3
URL:https://aatampa.org/event/public-information-cooperation-with-the-professional-community-committee/
END:VEVENT
BEGIN:VEVENT
DTSTART;TZID=America/New_York:20231019T190000
DTEND;TZID=America/New_York:20231019T200000
DTSTAMP:20260420T210424
CREATED:20231007T204441Z
LAST-MODIFIED:20231007T204441Z
UID:3523-1697742000-1697745600@aatampa.org
SUMMARY:Area 15 Public Information/Cooperation with the Professional Community Meeting
DESCRIPTION:Area 15 Public Information/Cooperation with the Professional Community Meeting\n7 p.m. on the third Thursday of the month excepting in January\, April\, July\, October\nMeeting ID: 860 8740 3525\nPasscode: pi/cpc
URL:https://aatampa.org/event/area-15-public-information-cooperation-with-the-professional-community-meeting/
END:VEVENT
BEGIN:VEVENT
DTSTART;TZID=America/New_York:20231017T190000
DTEND;TZID=America/New_York:20231017T200000
DTSTAMP:20260420T210424
CREATED:20231007T191314Z
LAST-MODIFIED:20231007T191314Z
UID:3470-1697569200-1697572800@aatampa.org
SUMMARY:District 2 Current Practices Meeting
DESCRIPTION:Current Practices\nContact info: currentpractice@aatampa.org\nWhen: 3rd Tuesday of the Month at 7PM\nWhere: Virtual – Zoom\nZoom Meeting ID: 881 8592 8987\nPasscode: current
URL:https://aatampa.org/event/district-2-current-practices-meeting-6/
END:VEVENT
BEGIN:VEVENT
DTSTART;TZID=America/New_York:20231017T180000
DTEND;TZID=America/New_York:20231017T190000
DTSTAMP:20260420T210424
CREATED:20231007T192600Z
LAST-MODIFIED:20231007T193039Z
UID:3478-1697565600-1697569200@aatampa.org
SUMMARY:District 2 Accessibilities Committee
DESCRIPTION:Accessibilities\nContact info: accessibilities@aatampa.org\nWhen:  Third Tuesday of each month at 6PM\nWhere:  Virtual – Zoom
URL:https://aatampa.org/event/district-2-accessibilities-committee/
END:VEVENT
BEGIN:VEVENT
DTSTART;TZID=America/New_York:20231015T183000
DTEND;TZID=America/New_York:20231015T193000
DTSTAMP:20260420T210424
CREATED:20231007T205213Z
LAST-MODIFIED:20231007T205213Z
UID:3529-1697394600-1697398200@aatampa.org
SUMMARY:Area 15 District Treasurers’ Sharing Session
DESCRIPTION:Area 15 District Treasurers’ Sharing Session\n6:30 p.m. on the third Sunday of the month\nMeeting ID: 455 496 8467\nPasscode: treasurer
URL:https://aatampa.org/event/area-15-district-treasurers-sharing-session/
END:VEVENT
BEGIN:VEVENT
DTSTART;TZID=America/New_York:20231014T093000
DTEND;TZID=America/New_York:20231014T103000
DTSTAMP:20260420T210424
CREATED:20231007T191637Z
LAST-MODIFIED:20231007T191637Z
UID:3474-1697275800-1697279400@aatampa.org
SUMMARY:TBAIC/Institutions District 2 Liaison
DESCRIPTION:TBAIC/Institutions Liaison\nContact info: tbaic@aatampa.org\nWhen: Second Saturday of each month  9:30 am\nWhere: Virtual – Zoom\nZoom Meeting ID: 345 781 6796\nPassword:  274T4N
URL:https://aatampa.org/event/tbaic-institutions-district-2-liaison-2/
END:VEVENT
BEGIN:VEVENT
DTSTART;TZID=America/New_York:20231012T190000
DTEND;TZID=America/New_York:20231012T200000
DTSTAMP:20260420T210424
CREATED:20231008T215348Z
LAST-MODIFIED:20231008T215348Z
UID:3543-1697137200-1697140800@aatampa.org
SUMMARY:The Service Manual Virtual Series
DESCRIPTION:The Service Manual Virtual Series\nOctober 12 @ 7:00 pm – 8:00 pm\nService-Manual-Workshop_Color_InclSchedule
URL:https://aatampa.org/event/the-service-manual-virtual-series/
END:VEVENT
BEGIN:VEVENT
DTSTART;TZID=America/New_York:20231012T180000
DTEND;TZID=America/New_York:20231012T190000
DTSTAMP:20260420T210424
CREATED:20231007T205950Z
LAST-MODIFIED:20231007T205950Z
UID:3536-1697133600-1697137200@aatampa.org
SUMMARY:Area 15 District Chairpersons’/Alternate Chairpersons’ Sharing Session
DESCRIPTION:Area 15 District Chairpersons’/Alternate Chairpersons’ Sharing Session\n6 p.m. on the second Thursday of the month\nMeeting ID: 875 0122 0437\nPasscode: 847593
URL:https://aatampa.org/event/area-15-district-chairpersons-alternate-chairpersons-sharing-session/
END:VEVENT
BEGIN:VEVENT
DTSTART;TZID=America/New_York:20231010T190000
DTEND;TZID=America/New_York:20231010T200000
DTSTAMP:20260420T210424
CREATED:20231007T191142Z
LAST-MODIFIED:20231007T191142Z
UID:3468-1696964400-1696968000@aatampa.org
SUMMARY:Central Office District 2 Liaison
DESCRIPTION:Central Office Liaison\nContact info: centralofficeliasion@aatampa.org\nWhen: Central Office meets the 2nd Tuesday of every month @ 7pm\nWhere: Virtual – Zoom\n8019 N Himes Ave\, Suite 104\, Tampa\, FL 33614-2712
URL:https://aatampa.org/event/central-office-district-2-liaison/
END:VEVENT
BEGIN:VEVENT
DTSTART;TZID=America/New_York:20231009T190000
DTEND;TZID=America/New_York:20231009T200000
DTSTAMP:20260420T210424
CREATED:20231007T201618Z
LAST-MODIFIED:20231007T201618Z
UID:3500-1696878000-1696881600@aatampa.org
SUMMARY:Carry The Message Day Planning Meeting
DESCRIPTION:Carry The Message Day Planning Meeting\nTuesday\, October 9th at 7:00 PM\nZoom ID #:  825 4898 7233\nPassword: 052496
URL:https://aatampa.org/event/carry-the-message-day-planning-meeting/
END:VEVENT
BEGIN:VEVENT
DTSTART;VALUE=DATE:20231006
DTEND;VALUE=DATE:20231009
DTSTAMP:20260420T210424
CREATED:20230805T030248Z
LAST-MODIFIED:20230805T030751Z
UID:3277-1696550400-1696809599@aatampa.org
SUMMARY:SOUTH FLORIDA AREA 15 GENERAL SERVICE ASSEMBLY
DESCRIPTION:20231006-08 South Florida Area 15 Quarterly Assembly Flyer
URL:https://aatampa.org/event/south-florida-area-15-general-service-assembly-2/
LOCATION:Boca Raton Marriott\, 5150 Town Center Circle\, Boca Raton\, FL\, 33486\, United States
END:VEVENT
END:VCALENDAR