BEGIN:VCALENDAR
VERSION:2.0
PRODID:-//AA District 2 - ECPv6.15.18//NONSGML v1.0//EN
CALSCALE:GREGORIAN
METHOD:PUBLISH
X-WR-CALNAME:AA District 2
X-ORIGINAL-URL:https://aatampa.org
X-WR-CALDESC:Events for AA District 2
REFRESH-INTERVAL;VALUE=DURATION:PT1H
X-Robots-Tag:noindex
X-PUBLISHED-TTL:PT1H
BEGIN:VTIMEZONE
TZID:America/New_York
BEGIN:DAYLIGHT
TZOFFSETFROM:-0500
TZOFFSETTO:-0400
TZNAME:EDT
DTSTART:20220313T070000
END:DAYLIGHT
BEGIN:STANDARD
TZOFFSETFROM:-0400
TZOFFSETTO:-0500
TZNAME:EST
DTSTART:20221106T060000
END:STANDARD
BEGIN:DAYLIGHT
TZOFFSETFROM:-0500
TZOFFSETTO:-0400
TZNAME:EDT
DTSTART:20230312T070000
END:DAYLIGHT
BEGIN:STANDARD
TZOFFSETFROM:-0400
TZOFFSETTO:-0500
TZNAME:EST
DTSTART:20231105T060000
END:STANDARD
BEGIN:DAYLIGHT
TZOFFSETFROM:-0500
TZOFFSETTO:-0400
TZNAME:EDT
DTSTART:20240310T070000
END:DAYLIGHT
BEGIN:STANDARD
TZOFFSETFROM:-0400
TZOFFSETTO:-0500
TZNAME:EST
DTSTART:20241103T060000
END:STANDARD
BEGIN:DAYLIGHT
TZOFFSETFROM:-0500
TZOFFSETTO:-0400
TZNAME:EDT
DTSTART:20250309T070000
END:DAYLIGHT
BEGIN:STANDARD
TZOFFSETFROM:-0400
TZOFFSETTO:-0500
TZNAME:EST
DTSTART:20251102T060000
END:STANDARD
END:VTIMEZONE
BEGIN:VEVENT
DTSTART;TZID=America/New_York:20240109T190000
DTEND;TZID=America/New_York:20240109T200000
DTSTAMP:20260420T165056
CREATED:20231105T190416Z
LAST-MODIFIED:20231105T190416Z
UID:3630-1704826800-1704830400@aatampa.org
SUMMARY:Central Office Meeting - District 2 Central Office Liaison
DESCRIPTION:Central Office Liaison\nContact info: centralofficeliasion@aatampa.org\nWhen: Central Office meets the 2nd Tuesday of every month @ 7pm\nWhere: Virtual – Zoom\n8019 N Himes Ave\, Suite 104\, Tampa\, FL 33614-2712
URL:https://aatampa.org/event/central-office-meeting-district-2-central-office-liaison-3/
END:VEVENT
BEGIN:VEVENT
DTSTART;VALUE=DATE:20240105
DTEND;VALUE=DATE:20240108
DTSTAMP:20260420T165056
CREATED:20231007T203428Z
LAST-MODIFIED:20231105T193518Z
UID:3512-1704412800-1704671999@aatampa.org
SUMMARY:Area 15 Quarterly Assembly
DESCRIPTION:Area 15 Quarterly Assembly\nJanuary 5 – 7\, 2024 Hyatt Regency\nSarasota\n$149
URL:https://aatampa.org/event/area-15-quarterly-assembly/
LOCATION:Hyatt Regency Sarasota\, 1000 Boulevard of the Arts Sarasota\, Sarasota\, FL\, 34236\, United States
END:VEVENT
BEGIN:VEVENT
DTSTART;TZID=America/New_York:20231231T160000
DTEND;TZID=America/New_York:20231231T235900
DTSTAMP:20260420T165056
CREATED:20231103T161825Z
LAST-MODIFIED:20231103T161825Z
UID:3616-1704038400-1704067140@aatampa.org
SUMMARY:New Year's Alcathon
DESCRIPTION:New Year’s Alcathon\nSunday\, December 31 @ 4PM\nZoom ID: 789 7054 7193\nPW: 920284
URL:https://aatampa.org/event/new-years-alcathon/
END:VEVENT
BEGIN:VEVENT
DTSTART;TZID=America/New_York:20231231T150000
DTEND;TZID=America/New_York:20231231T170000
DTSTAMP:20260420T165056
CREATED:20231105T191052Z
LAST-MODIFIED:20231115T150918Z
UID:3636-1704034800-1704042000@aatampa.org
SUMMARY:District 2 Monthly Business Meeting
DESCRIPTION:District 2 Monthly Business Meeting\nBusiness Meeting When: 3pm – 5pm EST\nWhere: Hybrid (In Person & Virtual)\n3333 W Columbus Dr Tampa\, FL 33607\nOR\nZoom Meeting ID: 962 6896 1514\nPassword:  District2\nContact: Chair@aatampa.org
URL:https://aatampa.org/event/district-2-monthly-business-meeting-3/
END:VEVENT
BEGIN:VEVENT
DTSTART;TZID=America/New_York:20231231T140000
DTEND;TZID=America/New_York:20231231T150000
DTSTAMP:20260420T165056
CREATED:20231105T191733Z
LAST-MODIFIED:20231115T150954Z
UID:3642-1704031200-1704034800@aatampa.org
SUMMARY:District 2 New GSR Orientation Meeting
DESCRIPTION:New GSR Orientation\nContact info: currentpractice@aatampa.org\nWhen: Same Sunday as District Meetings 2:00pm – 2:45pm\nWhere: The Club @ 3333 W Columbus Dr Tampa\,  FL 33607
URL:https://aatampa.org/event/district-2-new-gsr-orientation-meeting/
END:VEVENT
BEGIN:VEVENT
DTSTART;TZID=America/New_York:20231231T140000
DTEND;TZID=America/New_York:20231231T150000
DTSTAMP:20260420T165056
CREATED:20231105T190732Z
LAST-MODIFIED:20231115T150841Z
UID:3634-1704031200-1704034800@aatampa.org
SUMMARY:District 2 GSR/DCM Sharing Session
DESCRIPTION:District 2 GSR/DCM Sharing Session\nWhen: 2pm – 3pm EST\nWhere:  Virtual Zoom Meeting ID: 962 6896 1514 Password:  District2 Contact: altchair@aatampa.org
URL:https://aatampa.org/event/district-2-gsr-dcm-sharing-session-6/
END:VEVENT
BEGIN:VEVENT
DTSTART;TZID=America/New_York:20231231T130000
DTEND;TZID=America/New_York:20231231T134500
DTSTAMP:20260420T165056
CREATED:20231105T190548Z
LAST-MODIFIED:20231115T150940Z
UID:3632-1704027600-1704030300@aatampa.org
SUMMARY:District 2 Communications Technology Committee Meeting
DESCRIPTION:Communications Technology\nContact Info: communicationstechnology@aatampa.org\nWhen: Same Sunday as District Meetings 1:00pm – 1:45pm\nWhere: Virtual – Zoom\nZoom Meeting ID:  962 6896 1514\nPassword:  District2
URL:https://aatampa.org/event/district-2-communications-technology-committee-meeting/
END:VEVENT
BEGIN:VEVENT
DTSTART;TZID=America/New_York:20231228T190000
DTEND;TZID=America/New_York:20231228T200000
DTSTAMP:20260420T165056
CREATED:20231008T215938Z
LAST-MODIFIED:20231008T215938Z
UID:3555-1703790000-1703793600@aatampa.org
SUMMARY:The Service Manual Virtual Series
DESCRIPTION:The Service Manual Virtual Series\nDecember 28 @ 7:00 pm – 8:00 pm\nService-Manual-Workshop_Color_InclSchedule
URL:https://aatampa.org/event/the-service-manual-virtual-series-5/
END:VEVENT
BEGIN:VEVENT
DTSTART;TZID=America/New_York:20231226T190000
DTEND;TZID=America/New_York:20231226T200000
DTSTAMP:20260420T165056
CREATED:20231007T202139Z
LAST-MODIFIED:20231007T202139Z
UID:3504-1703617200-1703620800@aatampa.org
SUMMARY:District 2 Finance Committee
DESCRIPTION:Finance\nContact info: finance@aatampa.org\nWhen: Fourth Tuesday of each month at 7pm EST\nWhere: Virtual – Zoom\nMeeting ID: 980 6131 4288\nPasscode: Money
URL:https://aatampa.org/event/district-2-finance-committee/
END:VEVENT
BEGIN:VEVENT
DTSTART;VALUE=DATE:20231224
DTEND;VALUE=DATE:20231226
DTSTAMP:20260420T165056
CREATED:20231026T000847Z
LAST-MODIFIED:20231026T000847Z
UID:3611-1703376000-1703548799@aatampa.org
SUMMARY:Holiday Alcathon
DESCRIPTION:Holiday Alcathon\nSunday\, December 24\, 2023 at 4 pm – Monday\, December 25\, 2023 at 11:59 pm
URL:https://aatampa.org/event/holiday-alcathon/
END:VEVENT
BEGIN:VEVENT
DTSTART;TZID=America/New_York:20231223T180000
DTEND;TZID=America/New_York:20231223T190000
DTSTAMP:20260420T165056
CREATED:20231007T204042Z
LAST-MODIFIED:20231007T204155Z
UID:3519-1703354400-1703358000@aatampa.org
SUMMARY:Area 15 Accessibilities Committee Meeting
DESCRIPTION:Area 15 Accessibilities Committee Meeting\n6 p.m. on the fourth Thursday of the month\nMeeting ID: 812 9692 4006\nPasscode: 183216
URL:https://aatampa.org/event/area-15-accessibilities-committee-meeting-3/
END:VEVENT
BEGIN:VEVENT
DTSTART;TZID=America/New_York:20231221T190000
DTEND;TZID=America/New_York:20231221T200000
DTSTAMP:20260420T165056
CREATED:20231007T204552Z
LAST-MODIFIED:20231007T204552Z
UID:3525-1703185200-1703188800@aatampa.org
SUMMARY:Area 15 Public Information/Cooperation with the Professional Community Meeting
DESCRIPTION:Area 15 Public Information/Cooperation with the Professional Community Meeting\n7 p.m. on the third Thursday of the month excepting in January\, April\, July\, October\nMeeting ID: 860 8740 3525\nPasscode: pi/cpc
URL:https://aatampa.org/event/area-15-public-information-cooperation-with-the-professional-community-meeting-2/
END:VEVENT
BEGIN:VEVENT
DTSTART;TZID=America/New_York:20231219T190000
DTEND;TZID=America/New_York:20231219T200000
DTSTAMP:20260420T165056
CREATED:20231007T202010Z
LAST-MODIFIED:20231007T202010Z
UID:3502-1703012400-1703016000@aatampa.org
SUMMARY:District 2 Current Practices Committee
DESCRIPTION:Current Practices\nContact info: currentpractice@aatampa.org\nWhen: 3rd Tuesday of the Month at 7PM\nWhere: Virtual – Zoom\nZoom Meeting ID: 881 8592 8987\nPasscode: current
URL:https://aatampa.org/event/district-2-current-practices-committee/
END:VEVENT
BEGIN:VEVENT
DTSTART;TZID=America/New_York:20231219T180000
DTEND;TZID=America/New_York:20231219T190000
DTSTAMP:20260420T165056
CREATED:20231007T200854Z
LAST-MODIFIED:20231007T200854Z
UID:3498-1703008800-1703012400@aatampa.org
SUMMARY:District 2 Accessibilities Committee
DESCRIPTION:Accessibilities\nContact info: accessibilities@aatampa.org\nWhen:  Third Tuesday of each month at 6PM\nWhere:  Virtual – Zoom
URL:https://aatampa.org/event/district-2-accessibilities-committee-3/
END:VEVENT
BEGIN:VEVENT
DTSTART;TZID=America/New_York:20231217T183000
DTEND;TZID=America/New_York:20231217T193000
DTSTAMP:20260420T165056
CREATED:20231007T205714Z
LAST-MODIFIED:20231007T205714Z
UID:3534-1702837800-1702841400@aatampa.org
SUMMARY:Area 15 District Treasurers’ Sharing Sessions
DESCRIPTION:Area 15 District Treasurers’ Sharing Sessions\n6:30 p.m. on the third Sunday of the month\nMeeting ID: 455 496 8467\nPasscode: treasurer
URL:https://aatampa.org/event/area-15-district-treasurers-sharing-sessions/
END:VEVENT
BEGIN:VEVENT
DTSTART;TZID=America/New_York:20231216T090000
DTEND;TZID=America/New_York:20231216T100000
DTSTAMP:20260420T165056
CREATED:20231007T202842Z
LAST-MODIFIED:20231007T202842Z
UID:3508-1702717200-1702720800@aatampa.org
SUMMARY:District 2 Public Information & Cooperation with the Professional Community
DESCRIPTION:Public Information & Cooperation with the Professional Community\nContact Info: pi-cpc@aatampa.org\nWhen: 3rd Saturday of every month 9:00am\nWhere: Virtual – Zoom\nZoom Meeting ID:  927 439 9087\nPassword:  5wnNy3
URL:https://aatampa.org/event/district-2-public-information-cooperation-with-the-professional-community-3/
END:VEVENT
BEGIN:VEVENT
DTSTART;TZID=America/New_York:20231214T190000
DTEND;TZID=America/New_York:20231214T200000
DTSTAMP:20260420T165056
CREATED:20231008T215816Z
LAST-MODIFIED:20231008T215838Z
UID:3553-1702580400-1702584000@aatampa.org
SUMMARY:The Service Manual Virtual Series
DESCRIPTION:The Service Manual Virtual Series\nDecember 14 @ 7:00 pm – 8:00 pm\nService-Manual-Workshop_Color_InclSchedule
URL:https://aatampa.org/event/the-service-manual-virtual-series-4/
END:VEVENT
BEGIN:VEVENT
DTSTART;TZID=America/New_York:20231214T180000
DTEND;TZID=America/New_York:20231214T180000
DTSTAMP:20260420T165056
CREATED:20231007T210221Z
LAST-MODIFIED:20231007T210221Z
UID:3540-1702576800-1702576800@aatampa.org
SUMMARY:Area 15 District Chairpersons’/Alternate Chairpersons’ Sharing Session
DESCRIPTION:Area 15 District Chairpersons’/Alternate Chairpersons’ Sharing Session\n6 p.m. on the second Thursday of the month\nMeeting ID: 875 0122 0437\nPasscode: 847593
URL:https://aatampa.org/event/area-15-district-chairpersons-alternate-chairpersons-sharing-session-3/
END:VEVENT
BEGIN:VEVENT
DTSTART;TZID=America/New_York:20231213T180000
DTEND;TZID=America/New_York:20231213T190000
DTSTAMP:20260420T165056
CREATED:20231203T204121Z
LAST-MODIFIED:20231203T204121Z
UID:3679-1702490400-1702494000@aatampa.org
SUMMARY:Area 15 Remote Communities Committee Meeting
DESCRIPTION:Area 15 Remote Communities Committee Meeting\nTime: Dec 13\, 2023 06:00 PM Eastern Time (US and Canada) \nJoin Zoom Meeting\nhttps://us06web.zoom.us/j/82882400183?pwd=XS7ckJMfMcxXkkhavXFa9julZMuorF.1 \nMeeting ID: 828 8240 0183\nPasscode: 627740
URL:https://aatampa.org/event/area-15-remote-communities-committee-meeting/
END:VEVENT
BEGIN:VEVENT
DTSTART;TZID=America/New_York:20231211T180000
DTEND;TZID=America/New_York:20231211T180000
DTSTAMP:20260420T165056
CREATED:20231007T205000Z
LAST-MODIFIED:20231007T205000Z
UID:3527-1702317600-1702317600@aatampa.org
SUMMARY:Area 15 Website Committee Meetings
DESCRIPTION:Area 15 Website Committee Meetings\n6 p.m. on Dec. 11\nMeeting ID: 822 3771 1072\nPasscode: 618813
URL:https://aatampa.org/event/area-15-website-committee-meetings/
END:VEVENT
BEGIN:VEVENT
DTSTART;TZID=America/New_York:20231209T093000
DTEND;TZID=America/New_York:20231209T223000
DTSTAMP:20260420T165056
CREATED:20231007T203012Z
LAST-MODIFIED:20231007T203024Z
UID:3510-1702114200-1702161000@aatampa.org
SUMMARY:TBAIC/Institutions District 2 Liaison
DESCRIPTION:TBAIC/Institutions Liaison\nContact info: tbaic@aatampa.org\nWhen: Second Saturday of each month  9:30 am\nWhere: Virtual – Zoom\nZoom Meeting ID: 345 781 6796\nPassword:  274T4N
URL:https://aatampa.org/event/tbaic-institutions-district-2-liaison-3/
END:VEVENT
BEGIN:VEVENT
DTSTART;TZID=America/New_York:20231209T093000
DTEND;TZID=America/New_York:20231209T110000
DTSTAMP:20260420T165056
CREATED:20231009T145017Z
LAST-MODIFIED:20231009T145017Z
UID:3558-1702114200-1702119600@aatampa.org
SUMMARY:Area 15 Treatment Committee Meeting
DESCRIPTION:Area 15 Treatment Committee Meeting\nThe meeting is held 28-days prior to any quarterly committee meeting between 9:30-11:00 am.\nMeeting ID: 355 468 2752\nPasscode 937989
URL:https://aatampa.org/event/area-15-treatment-committee-meeting/
END:VEVENT
BEGIN:VEVENT
DTSTART;TZID=America/New_York:20231203T150000
DTEND;TZID=America/New_York:20231203T170000
DTSTAMP:20260420T165056
CREATED:20231007T193826Z
LAST-MODIFIED:20231007T193826Z
UID:3484-1701615600-1701622800@aatampa.org
SUMMARY:District 2 Monthly Business Meeting
DESCRIPTION:District 2 Monthly Business Meeting\n\nDecember 3 @ 3:00 pm – 5:00 pm\n\n\n\n\nBusiness Meeting When: 3pm – 5pm EST\nWhere: Hybrid (In Person & Virtual)\n3333 W Columbus Dr Tampa\, FL 33607\nOR\nZoom Meeting ID: 962 6896 1514\nPassword:  District2\nContact: Chair@aatampa.org
URL:https://aatampa.org/event/district-2-monthly-business-meeting-2/
END:VEVENT
BEGIN:VEVENT
DTSTART;TZID=America/New_York:20231203T140000
DTEND;TZID=America/New_York:20231203T150000
DTSTAMP:20260420T165056
CREATED:20231007T194056Z
LAST-MODIFIED:20231007T194056Z
UID:3486-1701612000-1701615600@aatampa.org
SUMMARY:District 2 GSR/DCM Sharing Session
DESCRIPTION:District 2 GSR/DCM Sharing Session\n\n\nDistrict 2 GSR/DCM Sharing Session\nWhen: 2pm – 3pm EST\nWhere:  Virtual Zoom Meeting ID: 962 6896 1514\nPassword:  District2 Contact: altchair@aatampa.org
URL:https://aatampa.org/event/district-2-gsr-dcm-sharing-session-4/
END:VEVENT
BEGIN:VEVENT
DTSTART;TZID=America/New_York:20231203T130000
DTEND;TZID=America/New_York:20231203T140000
DTSTAMP:20260420T165056
CREATED:20231007T200639Z
LAST-MODIFIED:20231007T200639Z
UID:3496-1701608400-1701612000@aatampa.org
SUMMARY:District 2 Communication Technology Committee
DESCRIPTION:District 2 Communication Technology Committee\n\n\nCommunications Technology Contact Info: communicationstechnology@aatampa.org\nWhen: Same Sunday as District Meetings 1:00pm – 1:45pm\nWhere: Virtual – Zoom\nZoom Meeting ID:  962 6896 1514 Password:  District2
URL:https://aatampa.org/event/district-2-communication-technology-committee-2/
END:VEVENT
BEGIN:VEVENT
DTSTART;TZID=America/New_York:20231202T093000
DTEND;TZID=America/New_York:20231202T103000
DTSTAMP:20260420T165056
CREATED:20231007T202408Z
LAST-MODIFIED:20231007T202408Z
UID:3506-1701509400-1701513000@aatampa.org
SUMMARY:District 2 Literature Committee Meeting
DESCRIPTION:Literature Committee Meeting\n9:30 am\nZoom Meeting ID: 941 0771 8348\nPasscode: Literature
URL:https://aatampa.org/event/district-2-literature-committee-meeting-6/
END:VEVENT
BEGIN:VEVENT
DTSTART;TZID=America/New_York:20231130T190000
DTEND;TZID=America/New_York:20231130T200000
DTSTAMP:20260420T165056
CREATED:20231008T215657Z
LAST-MODIFIED:20231008T215657Z
UID:3551-1701370800-1701374400@aatampa.org
SUMMARY:The Service Manual Virtual Series
DESCRIPTION:The Service Manual Virtual Series\nNovember 30 @ 7:00 pm – 8:00 pm\n\nService-Manual-Workshop_Color_InclSchedule
URL:https://aatampa.org/event/the-service-manual-virtual-series-3/
END:VEVENT
BEGIN:VEVENT
DTSTART;TZID=America/New_York:20231129T190000
DTEND;TZID=America/New_York:20231129T200000
DTSTAMP:20260420T165056
CREATED:20231007T204310Z
LAST-MODIFIED:20231007T204310Z
UID:3521-1701284400-1701288000@aatampa.org
SUMMARY:Area 15 Literature Committee Meeting
DESCRIPTION:Area 15 Literature Committee Meeting\n7 p.m. on Nov. 29\nMeeting ID: 878 9278 0564\nPasscode: 400874
URL:https://aatampa.org/event/area-15-literature-committee-meeting/
END:VEVENT
BEGIN:VEVENT
DTSTART;TZID=America/New_York:20231129T190000
DTEND;TZID=America/New_York:20231129T200000
DTSTAMP:20260420T165056
CREATED:20231007T183508Z
LAST-MODIFIED:20231007T183508Z
UID:3460-1701284400-1701288000@aatampa.org
SUMMARY:District 2 Finance Committee Meeting
DESCRIPTION:Finance\nContact info: finance@aatampa.org\nWhen: Fourth Tuesday of each month at 7pm EST\nWhere: Virtual – Zoom\nMeeting ID: 980 6131 4288\nPasscode: Money
URL:https://aatampa.org/event/district-2-finance-committee-meeting-5/
END:VEVENT
BEGIN:VEVENT
DTSTART;TZID=America/New_York:20231123T180000
DTEND;TZID=America/New_York:20231123T190000
DTSTAMP:20260420T165056
CREATED:20231007T203842Z
LAST-MODIFIED:20231007T203842Z
UID:3516-1700762400-1700766000@aatampa.org
SUMMARY:Area 15 Accessibilities Committee Meeting
DESCRIPTION:Area 15 Accessibilities Committee Meeting\n6 p.m. on the fourth Thursday of the month\nMeeting ID: 812 9692 4006\nPasscode: 183216
URL:https://aatampa.org/event/area-15-accessibilities-committee-meeting/
END:VEVENT
END:VCALENDAR