BEGIN:VCALENDAR
VERSION:2.0
PRODID:-//AA District 2 - ECPv6.15.18//NONSGML v1.0//EN
CALSCALE:GREGORIAN
METHOD:PUBLISH
X-WR-CALNAME:AA District 2
X-ORIGINAL-URL:https://aatampa.org
X-WR-CALDESC:Events for AA District 2
REFRESH-INTERVAL;VALUE=DURATION:PT1H
X-Robots-Tag:noindex
X-PUBLISHED-TTL:PT1H
BEGIN:VTIMEZONE
TZID:America/New_York
BEGIN:DAYLIGHT
TZOFFSETFROM:-0500
TZOFFSETTO:-0400
TZNAME:EDT
DTSTART:20230312T070000
END:DAYLIGHT
BEGIN:STANDARD
TZOFFSETFROM:-0400
TZOFFSETTO:-0500
TZNAME:EST
DTSTART:20231105T060000
END:STANDARD
BEGIN:DAYLIGHT
TZOFFSETFROM:-0500
TZOFFSETTO:-0400
TZNAME:EDT
DTSTART:20240310T070000
END:DAYLIGHT
BEGIN:STANDARD
TZOFFSETFROM:-0400
TZOFFSETTO:-0500
TZNAME:EST
DTSTART:20241103T060000
END:STANDARD
BEGIN:DAYLIGHT
TZOFFSETFROM:-0500
TZOFFSETTO:-0400
TZNAME:EDT
DTSTART:20250309T070000
END:DAYLIGHT
BEGIN:STANDARD
TZOFFSETFROM:-0400
TZOFFSETTO:-0500
TZNAME:EST
DTSTART:20251102T060000
END:STANDARD
END:VTIMEZONE
BEGIN:VEVENT
DTSTART;TZID=America/New_York:20240505T140000
DTEND;TZID=America/New_York:20240505T150000
DTSTAMP:20260420T041524
CREATED:20240422T145612Z
LAST-MODIFIED:20240422T145612Z
UID:3976-1714917600-1714921200@aatampa.org
SUMMARY:GSR/DCM Sharing Session 
DESCRIPTION:GSR/DCM Sharing Session\nWhen: 2pm – 3pm EST Where:  Virtual\nZoom Meeting ID:\n962 6896 1514\nPassword:  District2\nContact:\naltchair@aatampa.org
URL:https://aatampa.org/event/gsr-dcm-sharing-session-2/
END:VEVENT
BEGIN:VEVENT
DTSTART;TZID=America/New_York:20240505T130000
DTEND;TZID=America/New_York:20240505T134500
DTSTAMP:20260420T041524
CREATED:20240422T150325Z
LAST-MODIFIED:20240422T150325Z
UID:3984-1714914000-1714916700@aatampa.org
SUMMARY:District 2 Communications Technology Meeting
DESCRIPTION:Communications Technology\nContact Info: communicationstechnology@aatampa.org\nWhen: Same Sunday as District Meetings 1:00pm – 1:45pm\nWhere: Virtual – Zoom\nZoom Meeting ID: 962 6896 1514\nPassword: District2
URL:https://aatampa.org/event/district-2-communications-technology-meeting-4/
END:VEVENT
BEGIN:VEVENT
DTSTART;TZID=America/New_York:20240504T200000
DTEND;TZID=America/New_York:20240504T233000
DTSTAMP:20260420T041524
CREATED:20240415T215513Z
LAST-MODIFIED:20240415T215634Z
UID:3969-1714852800-1714865400@aatampa.org
SUMMARY:May the 4th Be With You
DESCRIPTION:May the 4th Be With You\n301 House\n8601 Bowles Rd\, Tampa\, FL 33637\n8pm-midnight
URL:https://aatampa.org/event/may-the-4th-be-with-you/
END:VEVENT
BEGIN:VEVENT
DTSTART;TZID=America/New_York:20240504T093000
DTEND;TZID=America/New_York:20240504T103000
DTSTAMP:20260420T041524
CREATED:20240422T182346Z
LAST-MODIFIED:20240422T182346Z
UID:4013-1714815000-1714818600@aatampa.org
SUMMARY:District 2 Literature Committee Meeting
DESCRIPTION:Literature Committee Meeting Schedule\n9:30 am\nZoom Meeting ID: 941 0771 8348\nPasscode: Literature
URL:https://aatampa.org/event/district-2-literature-committee-meeting-8/
END:VEVENT
BEGIN:VEVENT
DTSTART;TZID=America/New_York:20240425T190000
DTEND;TZID=America/New_York:20240425T200000
DTSTAMP:20260420T041524
CREATED:20240422T151408Z
LAST-MODIFIED:20240422T151408Z
UID:4005-1714071600-1714075200@aatampa.org
SUMMARY:Area 15 Accessibilities Committee Meeting
DESCRIPTION:Area 15 Accessibilities Committee Meeting\n7 p.m. on April 25\nMeeting ID: 812 9692 4006\nPasscode: 183216
URL:https://aatampa.org/event/area-15-accessibilities-committee-meeting-4/
END:VEVENT
BEGIN:VEVENT
DTSTART;TZID=America/New_York:20240423T183000
DTEND;TZID=America/New_York:20240423T193000
DTSTAMP:20260420T041524
CREATED:20240309T172414Z
LAST-MODIFIED:20240309T172414Z
UID:3893-1713897000-1713900600@aatampa.org
SUMMARY:District 2 Finance Committee Meeting
DESCRIPTION:Finance\nContact info: finance@aatampa.org\nWhen: Fourth Tuesday of each month at 6:30pm EST\nWhere: Virtual – Zoom\nMeeting ID: 980 6131 4288\nPasscode: Money
URL:https://aatampa.org/event/district-2-finance-committee-meeting-10/
END:VEVENT
BEGIN:VEVENT
DTSTART;TZID=America/New_York:20240422T193000
DTEND;TZID=America/New_York:20240422T203000
DTSTAMP:20260420T041524
CREATED:20240422T151324Z
LAST-MODIFIED:20240422T151324Z
UID:4003-1713814200-1713817800@aatampa.org
SUMMARY:Area 15 Outreach Committee Meeting
DESCRIPTION:Area 15 Outreach Committee Meeting\n\n\n7:30 p.m. on April 22\nMeeting ID: 865 7491 1455\nPasscode: Outreach
URL:https://aatampa.org/event/area-15-outreach-committee-meeting/
END:VEVENT
BEGIN:VEVENT
DTSTART;TZID=America/New_York:20240422T180000
DTEND;TZID=America/New_York:20240422T190000
DTSTAMP:20260420T041524
CREATED:20240422T151000Z
LAST-MODIFIED:20240422T151000Z
UID:3996-1713808800-1713812400@aatampa.org
SUMMARY:District 2 Delegate Luncheon Planning Committee Meeting
DESCRIPTION:Topic: Monday 3/25/2024\,4/22/2024\, 5/20/2024 Friday 5/31/2024 & Monday 6/3/2024 @ 6PM Delegate Luncheon\nTime: This is a recurring meeting Meet anytime \nJoin Zoom Meeting\nhttps://us06web.zoom.us/j/89621936083?pwd=MWtOU2wyNGJycTRheE91MVVtWGJtdz09 \nMeeting ID: 896 2193 6083\nPasscode: 06042023
URL:https://aatampa.org/event/district-2-delegate-luncheon-planning-committee-meeting/
END:VEVENT
BEGIN:VEVENT
DTSTART;TZID=America/New_York:20240420T130000
DTEND;TZID=America/New_York:20240420T160000
DTSTAMP:20260420T041524
CREATED:20240303T184712Z
LAST-MODIFIED:20240324T204231Z
UID:3862-1713618000-1713628800@aatampa.org
SUMMARY:Carry the Message Day
DESCRIPTION:Carry the Message 
URL:https://aatampa.org/event/carry-the-message-day/
LOCATION:Tampa Salvation Army Church\, 1100 W Sligh Ave\, Tampa\, FL\, 33604
END:VEVENT
BEGIN:VEVENT
DTSTART;TZID=America/New_York:20240420T090000
DTEND;TZID=America/New_York:20240420T100000
DTSTAMP:20260420T041524
CREATED:20240309T172513Z
LAST-MODIFIED:20240309T172513Z
UID:3895-1713603600-1713607200@aatampa.org
SUMMARY:District 2 Public Information & Cooperation with the Professional Community Meeting
DESCRIPTION:Public Information & Cooperation with the Professional Community\nContact Info: pi-cpc@aatampa.org\nWhen: 3rd Saturday of every month 9:00am\nWhere: Virtual – Zoom\nZoom Meeting ID:  927 439 9087\nPassword:  5wnNy3
URL:https://aatampa.org/event/district-2-public-information-cooperation-with-the-professional-community-meeting-5/
END:VEVENT
BEGIN:VEVENT
DTSTART;TZID=America/New_York:20240416T190000
DTEND;TZID=America/New_York:20240416T200000
DTSTAMP:20260420T041524
CREATED:20240309T172206Z
LAST-MODIFIED:20240309T172206Z
UID:3889-1713294000-1713297600@aatampa.org
SUMMARY:District 2 Current Practices Committee Meeting
DESCRIPTION:Current Practices\nContact info: currentpractice@aatampa.org\nWhen: 3rd Tuesday of the Month at 7PM\nWhere: Virtual – Zoom\nZoom Meeting ID: 881 8592 8987\nPasscode: current
URL:https://aatampa.org/event/district-2-current-practices-committee-meeting-2/
END:VEVENT
BEGIN:VEVENT
DTSTART;TZID=America/New_York:20240416T180000
DTEND;TZID=America/New_York:20240416T190000
DTSTAMP:20260420T041524
CREATED:20240309T171829Z
LAST-MODIFIED:20240309T171829Z
UID:3885-1713290400-1713294000@aatampa.org
SUMMARY:District 2 Accessibilities Committee Meeting
DESCRIPTION:Accessibilities\nContact info: accessibilities@aatampa.org\nWhen:  Third Tuesday of each month at 6PM\nWhere:  Virtual – Zoom
URL:https://aatampa.org/event/district-2-accessibilities-committee-meeting-4/
END:VEVENT
BEGIN:VEVENT
DTSTART;TZID=America/New_York:20240413T093000
DTEND;TZID=America/New_York:20240413T103000
DTSTAMP:20260420T041524
CREATED:20240309T172556Z
LAST-MODIFIED:20240309T172556Z
UID:3897-1713000600-1713004200@aatampa.org
SUMMARY:TBAIC/Institutions District 2 Liaison
DESCRIPTION:TBAIC/Institutions Liaison\nContact info: tbaic@aatampa.org\nWhen: Second Saturday of each month  9:30 am\nWhere: Virtual – Zoom\nZoom Meeting ID: 345 781 6796\nPassword:  274T4N
URL:https://aatampa.org/event/tbaic-institutions-district-2-liaison-4/
END:VEVENT
BEGIN:VEVENT
DTSTART;TZID=America/New_York:20240409T190000
DTEND;TZID=America/New_York:20240409T200000
DTSTAMP:20260420T041524
CREATED:20240309T171925Z
LAST-MODIFIED:20240309T171925Z
UID:3887-1712689200-1712692800@aatampa.org
SUMMARY:District 2 Central Office Liaison
DESCRIPTION:Central Office Liaison\nContact info: centralofficeliasion@aatampa.org\nWhen: Central Office meets the 2nd Tuesday of every month @ 7pm\nWhere: Virtual – Zoom\n8019 N Himes Ave\, Suite 104\, Tampa\, FL 33614-2712
URL:https://aatampa.org/event/district-2-central-office-liaison/
END:VEVENT
BEGIN:VEVENT
DTSTART;VALUE=DATE:20240405
DTEND;VALUE=DATE:20240408
DTSTAMP:20260420T041524
CREATED:20231230T182529Z
LAST-MODIFIED:20240109T233511Z
UID:3709-1712275200-1712534399@aatampa.org
SUMMARY:South Florida Area 15 General Service Assembly
DESCRIPTION:April 5\, 2024 – April 7\, 2024\nSouth Florida Area 15 General Service Assembly\nBoca Raton Marriott at Boca Center 5150 Town Center Circle\, Boca Raton\, FL\, United States\nFlyer 
URL:https://aatampa.org/event/south-florida-area-15-general-service-assembly-3/
END:VEVENT
BEGIN:VEVENT
DTSTART;TZID=America/New_York:20240326T180000
DTEND;TZID=America/New_York:20240326T193000
DTSTAMP:20260420T041524
CREATED:20240206T155252Z
LAST-MODIFIED:20240206T155252Z
UID:3789-1711476000-1711481400@aatampa.org
SUMMARY:Area 15 Pre Conference Virtual Meeting
DESCRIPTION:Date Day Time Committee Presenter Meeting ID Passcode\n3/2/2024 Saturday 10:00-11:30am TBD TBD TBD TBD\n3/6/2024 Wednesday 6:00-7:30pm TBD TBD TBD TBD\n3/8/2024 Friday 6:00-7:30pm TBD TBD TBD TBD\n3/14/2024 Thursday 6:00-7:30pm TBD TBD TBD TBD\n3/24/2024 Sunday 10:00-11:30am TBD TBD TBD TBD\n3/26/2024 Tuesday 6:00-7:30pm TBD TBD TBD TBD\nLet your voice be heard!\nWe have dates for our Pre Conference Virtual Meetings.\nEach are planned for 1-1/2 hours.\nThe committees will be chosen after the Final Agenda is out\nand we have the information we need to finalize our schedule.\n74th General Service Pre Conference\nvirtual meetings\nSave the Dates!\nThe presentations will be recorded and posted on the Area 15 website. Discussion will not be\nrecorded. We have made an effort to make the presentations shorter to leave more time for\ndiscussion.
URL:https://aatampa.org/event/area-15-pre-conference-virtual-meeting-6/
END:VEVENT
BEGIN:VEVENT
DTSTART;TZID=America/New_York:20240324T150000
DTEND;TZID=America/New_York:20240324T170000
DTSTAMP:20260420T041524
CREATED:20240309T171519Z
LAST-MODIFIED:20240309T171519Z
UID:3879-1711292400-1711299600@aatampa.org
SUMMARY:District 2 Business Meeting
DESCRIPTION:District 2 Business Meeting\n\nMarch 24 @ 3:00 pm – 5:00 pm\n\n\n\nWhen: 3pm – 5pm EST\nWhere: Hybrid (In Person & Virtual)\n3333 W Columbus Dr\nTampa\, FL 33607 OR\nZoom Meeting ID:\n962 6896 1514\nPassword:  District2\nContact:\nChair@aatampa.org
URL:https://aatampa.org/event/district-2-business-meeting-8/
END:VEVENT
BEGIN:VEVENT
DTSTART;TZID=America/New_York:20240324T140000
DTEND;TZID=America/New_York:20240324T150000
DTSTAMP:20260420T041524
CREATED:20240309T171257Z
LAST-MODIFIED:20240309T171257Z
UID:3877-1711288800-1711292400@aatampa.org
SUMMARY:District 2 GSR/DCM Sharing Session
DESCRIPTION:GSR/DCM Sharing Session\nMarch 24\, 2024\nWhen: 2pm – 3pm EST Where:  Virtual\nZoom Meeting ID:\n962 6896 1514\nPassword:  District2\nContact:\naltchair@aatampa.org
URL:https://aatampa.org/event/district-2-gsr-dcm-sharing-session-8/
END:VEVENT
BEGIN:VEVENT
DTSTART;TZID=America/New_York:20240324T140000
DTEND;TZID=America/New_York:20240324T144500
DTSTAMP:20260420T041524
CREATED:20240309T171647Z
LAST-MODIFIED:20240309T171647Z
UID:3883-1711288800-1711291500@aatampa.org
SUMMARY:District 2 New GSR Orientation
DESCRIPTION:March 24 @ 2:00 pm – 3:00 pm\nDistrict 2 New GSR Orientation\n\n\nNew GSR Orientation Contact info: newgsr@aatampa.org When: Same Sunday as District Meetings 2:00pm – 2:45pm Where: The Club @ 3333 W Columbus Dr Tampa\,  FL 33607
URL:https://aatampa.org/event/district-2-new-gsr-orientation-5/
END:VEVENT
BEGIN:VEVENT
DTSTART;TZID=America/New_York:20240324T130000
DTEND;TZID=America/New_York:20240324T134500
DTSTAMP:20260420T041524
CREATED:20240309T171151Z
LAST-MODIFIED:20240309T171151Z
UID:3875-1711285200-1711287900@aatampa.org
SUMMARY:District 2 Communications Technology Meeting
DESCRIPTION:March 24 @ 1:00 pm – 1:45 pm\nCommunications Technology\nContact Info: communicationstechnology@aatampa.org\nWhen: Same Sunday as District Meetings 1:00pm – 1:45pm\nWhere: Virtual – Zoom\nZoom Meeting ID: 962 6896 1514\nPassword: District2
URL:https://aatampa.org/event/district-2-communications-technology-meeting-3/
END:VEVENT
BEGIN:VEVENT
DTSTART;TZID=America/New_York:20240324T100000
DTEND;TZID=America/New_York:20240324T113000
DTSTAMP:20260420T041524
CREATED:20240206T155116Z
LAST-MODIFIED:20240206T155116Z
UID:3787-1711274400-1711279800@aatampa.org
SUMMARY:Area 15 Pre Conference Virtual Meeting
DESCRIPTION:Date Day Time Committee Presenter Meeting ID Passcode\n3/2/2024 Saturday 10:00-11:30am TBD TBD TBD TBD\n3/6/2024 Wednesday 6:00-7:30pm TBD TBD TBD TBD\n3/8/2024 Friday 6:00-7:30pm TBD TBD TBD TBD\n3/14/2024 Thursday 6:00-7:30pm TBD TBD TBD TBD\n3/24/2024 Sunday 10:00-11:30am TBD TBD TBD TBD\n3/26/2024 Tuesday 6:00-7:30pm TBD TBD TBD TBD\nLet your voice be heard!\nWe have dates for our Pre Conference Virtual Meetings.\nEach are planned for 1-1/2 hours.\nThe committees will be chosen after the Final Agenda is out\nand we have the information we need to finalize our schedule.\n74th General Service Pre Conference\nvirtual meetings\nSave the Dates!\nThe presentations will be recorded and posted on the Area 15 website. Discussion will not be\nrecorded. We have made an effort to make the presentations shorter to leave more time for\ndiscussion.
URL:https://aatampa.org/event/area-15-pre-conference-virtual-meeting-5/
END:VEVENT
BEGIN:VEVENT
DTSTART;TZID=America/New_York:20240319T190000
DTEND;TZID=America/New_York:20240319T200000
DTSTAMP:20260420T041524
CREATED:20240229T145027Z
LAST-MODIFIED:20240229T145027Z
UID:3822-1710874800-1710878400@aatampa.org
SUMMARY:District 2 Current Practices Meeting
DESCRIPTION:Current Practices\nContact info: currentpractice@aatampa.org\nWhen: 3rd Tuesday of the Month at 7PM\nWhere: Virtual – Zoom\nZoom Meeting ID: 881 8592 8987\nPasscode: current
URL:https://aatampa.org/event/district-2-current-practices-meeting-8/
END:VEVENT
BEGIN:VEVENT
DTSTART;TZID=America/New_York:20240319T180000
DTEND;TZID=America/New_York:20240319T190000
DTSTAMP:20260420T041524
CREATED:20240229T144700Z
LAST-MODIFIED:20240229T144700Z
UID:3816-1710871200-1710874800@aatampa.org
SUMMARY:District 2 Accessibilities Committee Meeting
DESCRIPTION:Accessibilities\nContact info: accessibilities@aatampa.org\nWhen:  Third Tuesday of each month at 6PM\nWhere:  Virtual – Zoom
URL:https://aatampa.org/event/district-2-accessibilities-committee-meeting-3/
END:VEVENT
BEGIN:VEVENT
DTSTART;TZID=America/New_York:20240318T170000
DTEND;TZID=America/New_York:20240318T180000
DTSTAMP:20260420T041524
CREATED:20240229T145112Z
LAST-MODIFIED:20240309T172321Z
UID:3824-1710781200-1710784800@aatampa.org
SUMMARY:District 2 Finance Committee Meeting
DESCRIPTION:Finance\nContact info: finance@aatampa.org\nWhen: Fourth Tuesday of each month at 7pm EST\nWhere: Virtual – Zoom\nMeeting ID: 980 6131 4288\nPasscode: Money \nNote- the March 2024 meeting will be held Monday 03/18/24 @5pm  \n 
URL:https://aatampa.org/event/district-2-finance-committee-meeting-9/
END:VEVENT
BEGIN:VEVENT
DTSTART;TZID=America/New_York:20240316T090000
DTEND;TZID=America/New_York:20240316T100000
DTSTAMP:20260420T041524
CREATED:20240229T145344Z
LAST-MODIFIED:20240229T145344Z
UID:3828-1710579600-1710583200@aatampa.org
SUMMARY:District 2 Public Information & Cooperation with the Professional Community Meeting
DESCRIPTION:Public Information & Cooperation with the Professional Community\nContact Info: pi-cpc@aatampa.org\nWhen: 3rd Saturday of every month 9:00am\nWhere: Virtual – Zoom\nZoom Meeting ID:  927 439 9087\nPassword:  5wnNy3
URL:https://aatampa.org/event/district-2-public-information-cooperation-with-the-professional-community-meeting-4/
END:VEVENT
BEGIN:VEVENT
DTSTART;VALUE=DATE:20240315
DTEND;VALUE=DATE:20240318
DTSTAMP:20260420T041524
CREATED:20231219T000217Z
LAST-MODIFIED:20231219T000223Z
UID:3701-1710460800-1710719999@aatampa.org
SUMMARY:SoberStock 2024
DESCRIPTION:Soberstock Flyer
URL:https://aatampa.org/event/soberstock-2024/
LOCATION:Sand Hill Scout Reservation\, 11210 Cortez Blvd\, Brooksville\, FL\, 34613\, United States
END:VEVENT
BEGIN:VEVENT
DTSTART;TZID=America/New_York:20240314T180000
DTEND;TZID=America/New_York:20240314T193000
DTSTAMP:20260420T041524
CREATED:20240206T155027Z
LAST-MODIFIED:20240206T155027Z
UID:3785-1710439200-1710444600@aatampa.org
SUMMARY:Area 15 Pre Conference Virtual Meeting
DESCRIPTION:Date Day Time Committee Presenter Meeting ID Passcode\n3/2/2024 Saturday 10:00-11:30am TBD TBD TBD TBD\n3/6/2024 Wednesday 6:00-7:30pm TBD TBD TBD TBD\n3/8/2024 Friday 6:00-7:30pm TBD TBD TBD TBD\n3/14/2024 Thursday 6:00-7:30pm TBD TBD TBD TBD\n3/24/2024 Sunday 10:00-11:30am TBD TBD TBD TBD\n3/26/2024 Tuesday 6:00-7:30pm TBD TBD TBD TBD\nLet your voice be heard!\nWe have dates for our Pre Conference Virtual Meetings.\nEach are planned for 1-1/2 hours.\nThe committees will be chosen after the Final Agenda is out\nand we have the information we need to finalize our schedule.\n74th General Service Pre Conference\nvirtual meetings\nSave the Dates!\nThe presentations will be recorded and posted on the Area 15 website. Discussion will not be\nrecorded. We have made an effort to make the presentations shorter to leave more time for\ndiscussion.
URL:https://aatampa.org/event/area-15-pre-conference-virtual-meeting-4/
END:VEVENT
BEGIN:VEVENT
DTSTART;TZID=America/New_York:20240312T190000
DTEND;TZID=America/New_York:20240312T200000
DTSTAMP:20260420T041524
CREATED:20240229T144808Z
LAST-MODIFIED:20240229T144808Z
UID:3818-1710270000-1710273600@aatampa.org
SUMMARY:Central Office Meetin (District 2 Central Office Liaison)
DESCRIPTION:Central Office Liaison\nContact info: centralofficeliasion@aatampa.org\nWhen: Central Office meets the 2nd Tuesday of every month @ 7pm\nWhere: Virtual – Zoom\n8019 N Himes Ave\, Suite 104\, Tampa\, FL 33614-2712
URL:https://aatampa.org/event/central-office-meetin-district-2-central-office-liaison/
END:VEVENT
BEGIN:VEVENT
DTSTART;TZID=America/New_York:20240312T180000
DTEND;TZID=America/New_York:20240312T190000
DTSTAMP:20260420T041524
CREATED:20240229T150305Z
LAST-MODIFIED:20240229T150305Z
UID:3841-1710266400-1710270000@aatampa.org
SUMMARY:Current Practice Workshop – Robert’s Rules of Order
DESCRIPTION:Current Practice Workshop – Robert’s Rules of Order\n\nMarch 12 @ 6:00 pm – 7:00 pm\n\n\n\nRobert’s Rules of Order \nMar. 12\, 2024 6:00 pm Eastern time \nJoin Zoom Meeting\nhttps://us06web.zoom.us/j/89983162016?pwd=04SUFJCwRdY86hUbKcHbX1gSmqr2tX.1 \nMeeting ID: 899 8316 2016\nPasscode: area15cp
URL:https://aatampa.org/event/current-practice-workshop-roberts-rules-of-order/
END:VEVENT
BEGIN:VEVENT
DTSTART;TZID=America/New_York:20240312T093000
DTEND;TZID=America/New_York:20240312T103000
DTSTAMP:20260420T041524
CREATED:20240229T145441Z
LAST-MODIFIED:20240229T145441Z
UID:3830-1710235800-1710239400@aatampa.org
SUMMARY:TBAIC/Institutions Meeting (District 2 Liaison)
DESCRIPTION:TBAIC/Institutions Liaison\nContact info: tbaic@aatampa.org\nWhen: Second Saturday of each month  9:30 am\nWhere: Virtual – Zoom\nZoom Meeting ID: 345 781 6796\nPassword:  274T4N
URL:https://aatampa.org/event/tbaic-institutions-meeting-district-2-liaison/
END:VEVENT
END:VCALENDAR