BEGIN:VCALENDAR
VERSION:2.0
PRODID:-//AA District 2 - ECPv6.15.18//NONSGML v1.0//EN
CALSCALE:GREGORIAN
METHOD:PUBLISH
X-WR-CALNAME:AA District 2
X-ORIGINAL-URL:https://aatampa.org
X-WR-CALDESC:Events for AA District 2
REFRESH-INTERVAL;VALUE=DURATION:PT1H
X-Robots-Tag:noindex
X-PUBLISHED-TTL:PT1H
BEGIN:VTIMEZONE
TZID:America/New_York
BEGIN:DAYLIGHT
TZOFFSETFROM:-0500
TZOFFSETTO:-0400
TZNAME:EDT
DTSTART:20240310T070000
END:DAYLIGHT
BEGIN:STANDARD
TZOFFSETFROM:-0400
TZOFFSETTO:-0500
TZNAME:EST
DTSTART:20241103T060000
END:STANDARD
BEGIN:DAYLIGHT
TZOFFSETFROM:-0500
TZOFFSETTO:-0400
TZNAME:EDT
DTSTART:20250309T070000
END:DAYLIGHT
BEGIN:STANDARD
TZOFFSETFROM:-0400
TZOFFSETTO:-0500
TZNAME:EST
DTSTART:20251102T060000
END:STANDARD
BEGIN:DAYLIGHT
TZOFFSETFROM:-0500
TZOFFSETTO:-0400
TZNAME:EDT
DTSTART:20260308T070000
END:DAYLIGHT
BEGIN:STANDARD
TZOFFSETFROM:-0400
TZOFFSETTO:-0500
TZNAME:EST
DTSTART:20261101T060000
END:STANDARD
END:VTIMEZONE
BEGIN:VEVENT
DTSTART;TZID=America/New_York:20251127T120000
DTEND;TZID=America/New_York:20251127T140000
DTSTAMP:20260421T070236
CREATED:20251123T201703Z
LAST-MODIFIED:20251123T201703Z
UID:5902-1764244800-1764252000@aatampa.org
SUMMARY:Club Yana presents Thanksgiving Dinner Celebration
DESCRIPTION:Click HERE for More Information!
URL:https://aatampa.org/event/club-yana-presents-thanksgiving-dinner-celebration/
LOCATION:Club YANA\, 209 S. Tampania Ave\, Tampa\, FL\, 33609\, United States
END:VEVENT
BEGIN:VEVENT
DTSTART;TZID=America/New_York:20251127T130000
DTEND;TZID=America/New_York:20251127T150000
DTSTAMP:20260421T070236
CREATED:20251123T201050Z
LAST-MODIFIED:20251123T201050Z
UID:5898-1764248400-1764255600@aatampa.org
SUMMARY:Old School Group presents Thanksgiving Potluck Dinner
DESCRIPTION:Click HERE for More Information!
URL:https://aatampa.org/event/old-school-group-presents-thanksgiving-potluck-dinner/
LOCATION:Old School Group (Crystal Lakes Plaza)\, 18125 US Highway 41\, Lutz\, FL\, 33559\, United States
END:VEVENT
END:VCALENDAR