BEGIN:VCALENDAR
VERSION:2.0
PRODID:-//AA District 2 - ECPv6.15.18//NONSGML v1.0//EN
CALSCALE:GREGORIAN
METHOD:PUBLISH
X-ORIGINAL-URL:https://aatampa.org
X-WR-CALDESC:Events for AA District 2
REFRESH-INTERVAL;VALUE=DURATION:PT1H
X-Robots-Tag:noindex
X-PUBLISHED-TTL:PT1H
BEGIN:VTIMEZONE
TZID:America/New_York
BEGIN:DAYLIGHT
TZOFFSETFROM:-0500
TZOFFSETTO:-0400
TZNAME:EDT
DTSTART:20240310T070000
END:DAYLIGHT
BEGIN:STANDARD
TZOFFSETFROM:-0400
TZOFFSETTO:-0500
TZNAME:EST
DTSTART:20241103T060000
END:STANDARD
BEGIN:DAYLIGHT
TZOFFSETFROM:-0500
TZOFFSETTO:-0400
TZNAME:EDT
DTSTART:20250309T070000
END:DAYLIGHT
BEGIN:STANDARD
TZOFFSETFROM:-0400
TZOFFSETTO:-0500
TZNAME:EST
DTSTART:20251102T060000
END:STANDARD
BEGIN:DAYLIGHT
TZOFFSETFROM:-0500
TZOFFSETTO:-0400
TZNAME:EDT
DTSTART:20260308T070000
END:DAYLIGHT
BEGIN:STANDARD
TZOFFSETFROM:-0400
TZOFFSETTO:-0500
TZNAME:EST
DTSTART:20261101T060000
END:STANDARD
END:VTIMEZONE
BEGIN:VEVENT
DTSTART;TZID=America/New_York:20250629T140000
DTEND;TZID=America/New_York:20250629T150000
DTSTAMP:20260421T094335
CREATED:20250323T212604Z
LAST-MODIFIED:20250323T212604Z
UID:4983-1751205600-1751209200@aatampa.org
SUMMARY:Area 15 District 2 New GSR Orientation
DESCRIPTION:Contact info: newgsr@aatampa.org\nWhen: Same Sunday as District Meetings 2pm – 3pm EST\nWhere: Virtual\nMeeting ID:  962 6896 1514\nPassword:  District2
URL:https://aatampa.org/event/area-15-district-2-new-gsr-orientation-3/
LOCATION:FL
END:VEVENT
BEGIN:VEVENT
DTSTART;TZID=America/New_York:20250629T150000
DTEND;TZID=America/New_York:20250629T170000
DTSTAMP:20260421T094335
CREATED:20250111T174918Z
LAST-MODIFIED:20250111T174918Z
UID:4557-1751209200-1751216400@aatampa.org
SUMMARY:July District 2 Business Meeting
DESCRIPTION:July District 2 Business Meeting\n\nWhen: 3pm – 5pm EST\nWhere: Hybrid (In Person & Virtual)\n3333 W Columbus Dr\nTampa\, FL 33607\nOR\nZoom Meeting ID:\n962 6896 1514\nPassword:  District2\n\nContact:\nChair@aatampa.org
URL:https://aatampa.org/event/july-district-2-business-meeting/
LOCATION:The Club\, 3333 West Columbus Drive\, Tampa\, FL\, 33607\, United States
END:VEVENT
END:VCALENDAR