BEGIN:VCALENDAR
VERSION:2.0
PRODID:-//AA District 2 - ECPv6.15.18//NONSGML v1.0//EN
CALSCALE:GREGORIAN
METHOD:PUBLISH
X-ORIGINAL-URL:https://aatampa.org
X-WR-CALDESC:Events for AA District 2
REFRESH-INTERVAL;VALUE=DURATION:PT1H
X-Robots-Tag:noindex
X-PUBLISHED-TTL:PT1H
BEGIN:VTIMEZONE
TZID:America/New_York
BEGIN:DAYLIGHT
TZOFFSETFROM:-0500
TZOFFSETTO:-0400
TZNAME:EDT
DTSTART:20240310T070000
END:DAYLIGHT
BEGIN:STANDARD
TZOFFSETFROM:-0400
TZOFFSETTO:-0500
TZNAME:EST
DTSTART:20241103T060000
END:STANDARD
BEGIN:DAYLIGHT
TZOFFSETFROM:-0500
TZOFFSETTO:-0400
TZNAME:EDT
DTSTART:20250309T070000
END:DAYLIGHT
BEGIN:STANDARD
TZOFFSETFROM:-0400
TZOFFSETTO:-0500
TZNAME:EST
DTSTART:20251102T060000
END:STANDARD
BEGIN:DAYLIGHT
TZOFFSETFROM:-0500
TZOFFSETTO:-0400
TZNAME:EDT
DTSTART:20260308T070000
END:DAYLIGHT
BEGIN:STANDARD
TZOFFSETFROM:-0400
TZOFFSETTO:-0500
TZNAME:EST
DTSTART:20261101T060000
END:STANDARD
END:VTIMEZONE
BEGIN:VEVENT
DTSTART;TZID=America/New_York:20250614T093000
DTEND;TZID=America/New_York:20250614T103000
DTSTAMP:20260421T112400
CREATED:20250503T204158Z
LAST-MODIFIED:20250503T204158Z
UID:5176-1749893400-1749897000@aatampa.org
SUMMARY:Area 15 District 2 TBAIC & Institutions Committee Meeting
DESCRIPTION:Contact info: tbaic@aatampa.org\nWhen: 2nd Saturday of each month  9:30 am\nWhere: Virtual\nMeeting ID: 345 781 6796\nPasscode:  274T4N
URL:https://aatampa.org/event/area-15-district-2-tbaic-institutions-committee-meeting-4/
LOCATION:FL
END:VEVENT
END:VCALENDAR