BEGIN:VCALENDAR
VERSION:2.0
PRODID:-//AA District 2 - ECPv6.15.18//NONSGML v1.0//EN
CALSCALE:GREGORIAN
METHOD:PUBLISH
X-WR-CALNAME:AA District 2
X-ORIGINAL-URL:https://aatampa.org
X-WR-CALDESC:Events for AA District 2
REFRESH-INTERVAL;VALUE=DURATION:PT1H
X-Robots-Tag:noindex
X-PUBLISHED-TTL:PT1H
BEGIN:VTIMEZONE
TZID:America/New_York
BEGIN:DAYLIGHT
TZOFFSETFROM:-0500
TZOFFSETTO:-0400
TZNAME:EDT
DTSTART:20240310T070000
END:DAYLIGHT
BEGIN:STANDARD
TZOFFSETFROM:-0400
TZOFFSETTO:-0500
TZNAME:EST
DTSTART:20241103T060000
END:STANDARD
BEGIN:DAYLIGHT
TZOFFSETFROM:-0500
TZOFFSETTO:-0400
TZNAME:EDT
DTSTART:20250309T070000
END:DAYLIGHT
BEGIN:STANDARD
TZOFFSETFROM:-0400
TZOFFSETTO:-0500
TZNAME:EST
DTSTART:20251102T060000
END:STANDARD
BEGIN:DAYLIGHT
TZOFFSETFROM:-0500
TZOFFSETTO:-0400
TZNAME:EDT
DTSTART:20260308T070000
END:DAYLIGHT
BEGIN:STANDARD
TZOFFSETFROM:-0400
TZOFFSETTO:-0500
TZNAME:EST
DTSTART:20261101T060000
END:STANDARD
END:VTIMEZONE
BEGIN:VEVENT
DTSTART;VALUE=DATE:20250404
DTEND;VALUE=DATE:20250407
DTSTAMP:20260423T093222
CREATED:20241019T145050Z
LAST-MODIFIED:20250111T165928Z
UID:4443-1743724800-1743983999@aatampa.org
SUMMARY:AREA 15 GENERAL SERVICE ASSEMBLY
DESCRIPTION:SOUTH FLORIDA AREA 15 GENERAL SERVICE ASSEMBLY \nHosted by District 9 Broward County \nRegistration Friday 4:00 PM – 8:30 PM\, Saturday 8:00 AM – 8:30 PM\, Sunday 7:00AM – 9:00AM \nSpanish Flyer \nEnglish Flyer \n 
URL:https://aatampa.org/event/area-15-general-service-assembly/
LOCATION:Boca Raton Marriott\, 5150 Town Center Circle\, Boca Raton\, FL\, 33486\, United States
END:VEVENT
END:VCALENDAR