BEGIN:VCALENDAR
VERSION:2.0
PRODID:-//AA District 2 - ECPv6.15.18//NONSGML v1.0//EN
CALSCALE:GREGORIAN
METHOD:PUBLISH
X-WR-CALNAME:AA District 2
X-ORIGINAL-URL:https://aatampa.org
X-WR-CALDESC:Events for AA District 2
REFRESH-INTERVAL;VALUE=DURATION:PT1H
X-Robots-Tag:noindex
X-PUBLISHED-TTL:PT1H
BEGIN:VTIMEZONE
TZID:America/New_York
BEGIN:DAYLIGHT
TZOFFSETFROM:-0500
TZOFFSETTO:-0400
TZNAME:EDT
DTSTART:20240310T070000
END:DAYLIGHT
BEGIN:STANDARD
TZOFFSETFROM:-0400
TZOFFSETTO:-0500
TZNAME:EST
DTSTART:20241103T060000
END:STANDARD
BEGIN:DAYLIGHT
TZOFFSETFROM:-0500
TZOFFSETTO:-0400
TZNAME:EDT
DTSTART:20250309T070000
END:DAYLIGHT
BEGIN:STANDARD
TZOFFSETFROM:-0400
TZOFFSETTO:-0500
TZNAME:EST
DTSTART:20251102T060000
END:STANDARD
BEGIN:DAYLIGHT
TZOFFSETFROM:-0500
TZOFFSETTO:-0400
TZNAME:EDT
DTSTART:20260308T070000
END:DAYLIGHT
BEGIN:STANDARD
TZOFFSETFROM:-0400
TZOFFSETTO:-0500
TZNAME:EST
DTSTART:20261101T060000
END:STANDARD
END:VTIMEZONE
BEGIN:VEVENT
DTSTART;TZID=America/New_York:20250222T090000
DTEND;TZID=America/New_York:20250222T160000
DTSTAMP:20260424T015553
CREATED:20240820T233119Z
LAST-MODIFIED:20240820T233119Z
UID:4252-1740214800-1740240000@aatampa.org
SUMMARY:7th Florida AA Archives Workshop
DESCRIPTION:7th Florida AA Archives Workshop\nHosted by Areas 1 \, 14\, and 15\nSaturday\, February 22\, 2025 – 9am to 4pm\nLynn Haven Methodist Church\n3203 Minnesota Avenue\, Panama City\, FL\, 32405\n$30/person – lunch included\nPresentations include Florida’s AA history\, Area\, District\, Intergroup Archives Displays\, and much more!\nPlease fill out form on back\, make checks payable to District 15 and send registration to District 15 Intergroup\, PO Box 1443\, Panama City\, FL\, 32402. If you have any questions\, please contact us at flarchives2025@gmail.com \nFlorida AA Archives Workshop Flyer
URL:https://aatampa.org/event/7th-florida-aa-archives-workshop/
LOCATION:FL
END:VEVENT
BEGIN:VEVENT
DTSTART;TZID=America/New_York:20250222T140000
DTEND;TZID=America/New_York:20250222T180000
DTSTAMP:20260424T015553
CREATED:20250118T153311Z
LAST-MODIFIED:20250118T153311Z
UID:4709-1740232800-1740247200@aatampa.org
SUMMARY:Tri-County Central Offices Presents 50th Anniversary
DESCRIPTION:Palma Ceia Presbyterian Church\n3501 W. San Jose St.\nTampa\, FL 33629 \nClick HERE for the flyer! \nCakewalk Donations needed!  Click HERE for the flyer!
URL:https://aatampa.org/event/tri-county-central-offices-presents-50th-anniversary/
LOCATION:Palma Ceia Presbyterian Church\, 3501 W. San Jose St.\, Tampa\, FL\, 33629\, United States
END:VEVENT
END:VCALENDAR