BEGIN:VCALENDAR
VERSION:2.0
PRODID:-//AA District 2 - ECPv6.15.18//NONSGML v1.0//EN
CALSCALE:GREGORIAN
METHOD:PUBLISH
X-ORIGINAL-URL:https://aatampa.org
X-WR-CALDESC:Events for AA District 2
REFRESH-INTERVAL;VALUE=DURATION:PT1H
X-Robots-Tag:noindex
X-PUBLISHED-TTL:PT1H
BEGIN:VTIMEZONE
TZID:America/New_York
BEGIN:DAYLIGHT
TZOFFSETFROM:-0500
TZOFFSETTO:-0400
TZNAME:EDT
DTSTART:20230312T070000
END:DAYLIGHT
BEGIN:STANDARD
TZOFFSETFROM:-0400
TZOFFSETTO:-0500
TZNAME:EST
DTSTART:20231105T060000
END:STANDARD
BEGIN:DAYLIGHT
TZOFFSETFROM:-0500
TZOFFSETTO:-0400
TZNAME:EDT
DTSTART:20240310T070000
END:DAYLIGHT
BEGIN:STANDARD
TZOFFSETFROM:-0400
TZOFFSETTO:-0500
TZNAME:EST
DTSTART:20241103T060000
END:STANDARD
BEGIN:DAYLIGHT
TZOFFSETFROM:-0500
TZOFFSETTO:-0400
TZNAME:EDT
DTSTART:20250309T070000
END:DAYLIGHT
BEGIN:STANDARD
TZOFFSETFROM:-0400
TZOFFSETTO:-0500
TZNAME:EST
DTSTART:20251102T060000
END:STANDARD
END:VTIMEZONE
BEGIN:VEVENT
DTSTART;TZID=America/New_York:20241103T130000
DTEND;TZID=America/New_York:20241103T134500
DTSTAMP:20260424T065216
CREATED:20240902T150759Z
LAST-MODIFIED:20240902T150759Z
UID:4324-1730638800-1730641500@aatampa.org
SUMMARY:District 2 Communications Technology Committee Meeting
DESCRIPTION:Communications Technology\nContact Info: communicationstechnology@aatampa.org\nWhen: Same Sunday as District Meetings 1:00pm – 1:45pm\nWhere: Virtual – Zoom\nZoom Meeting ID:  962 6896 1514\nPassword:  District2
URL:https://aatampa.org/event/district-2-communications-technology-committee-meeting-2/
LOCATION:FL
END:VEVENT
BEGIN:VEVENT
DTSTART;TZID=America/New_York:20241103T140000
DTEND;TZID=America/New_York:20241103T150000
DTSTAMP:20260424T065216
CREATED:20240902T145617Z
LAST-MODIFIED:20240902T145617Z
UID:4302-1730642400-1730646000@aatampa.org
SUMMARY:District 2 New GSR Orientation
DESCRIPTION:New GSR Orientation\nWhen: 2pm – 3pm EST\nWhere: Virtual\nZoom Meeting ID:\n962 6896 1514\nPassword:  District2\nContact: newgsr@aatampa.org
URL:https://aatampa.org/event/district-2-new-gsr-orientation-10/
LOCATION:FL
END:VEVENT
BEGIN:VEVENT
DTSTART;TZID=America/New_York:20241103T150000
DTEND;TZID=America/New_York:20241103T170000
DTSTAMP:20260424T065216
CREATED:20240902T145044Z
LAST-MODIFIED:20240902T145044Z
UID:4293-1730646000-1730653200@aatampa.org
SUMMARY:District Business Meeting Panel 75 Elections – Virtual ONLY
DESCRIPTION:Business Meeting\nWhen: 3pm – 5pm EST\nWhere: (Virtual)\n3333 W Columbus Dr\nTampa\, FL 33607 OR\nZoom Meeting ID:\n962 6896 1514\nPassword:  District2\nContact:\nChair@aatampa.org
URL:https://aatampa.org/event/district-business-meeting-panel-75-elections-virtual-only/
LOCATION:FL
END:VEVENT
BEGIN:VEVENT
DTSTART;TZID=America/New_York:20241103T150000
DTEND;TZID=America/New_York:20241103T170000
DTSTAMP:20260424T065216
CREATED:20240902T145308Z
LAST-MODIFIED:20240902T145308Z
UID:4297-1730646000-1730653200@aatampa.org
SUMMARY:District 2 GSR/DCM Sharing Session 
DESCRIPTION:GSR/DCM Sharing Session\nWhen: 2pm – 3pm EST Where:  Virtual\nZoom Meeting ID:\n962 6896 1514\nPassword:  District2\nContact:\naltchair@aatampa.org
URL:https://aatampa.org/event/district-2-gsr-dcm-sharing-session-12/
LOCATION:FL
END:VEVENT
END:VCALENDAR