BEGIN:VCALENDAR
VERSION:2.0
PRODID:-//AA District 2 - ECPv6.15.18//NONSGML v1.0//EN
CALSCALE:GREGORIAN
METHOD:PUBLISH
X-WR-CALNAME:AA District 2
X-ORIGINAL-URL:https://aatampa.org
X-WR-CALDESC:Events for AA District 2
REFRESH-INTERVAL;VALUE=DURATION:PT1H
X-Robots-Tag:noindex
X-PUBLISHED-TTL:PT1H
BEGIN:VTIMEZONE
TZID:America/New_York
BEGIN:DAYLIGHT
TZOFFSETFROM:-0500
TZOFFSETTO:-0400
TZNAME:EDT
DTSTART:20230312T070000
END:DAYLIGHT
BEGIN:STANDARD
TZOFFSETFROM:-0400
TZOFFSETTO:-0500
TZNAME:EST
DTSTART:20231105T060000
END:STANDARD
BEGIN:DAYLIGHT
TZOFFSETFROM:-0500
TZOFFSETTO:-0400
TZNAME:EDT
DTSTART:20240310T070000
END:DAYLIGHT
BEGIN:STANDARD
TZOFFSETFROM:-0400
TZOFFSETTO:-0500
TZNAME:EST
DTSTART:20241103T060000
END:STANDARD
BEGIN:DAYLIGHT
TZOFFSETFROM:-0500
TZOFFSETTO:-0400
TZNAME:EDT
DTSTART:20250309T070000
END:DAYLIGHT
BEGIN:STANDARD
TZOFFSETFROM:-0400
TZOFFSETTO:-0500
TZNAME:EST
DTSTART:20251102T060000
END:STANDARD
END:VTIMEZONE
BEGIN:VEVENT
DTSTART;TZID=America/New_York:20241015T180000
DTEND;TZID=America/New_York:20241015T190000
DTSTAMP:20260424T081656
CREATED:20240902T145847Z
LAST-MODIFIED:20240902T145848Z
UID:4306-1729015200-1729018800@aatampa.org
SUMMARY:District 2 Accessibilities Committee Meeting
DESCRIPTION:Accessibilities\nContact info: accessibilities@aatampa.org\nWhen:  Third Tuesday of each month at 6PM\nWhere:  Virtual – Zoom
URL:https://aatampa.org/event/district-2-accessibilities-committee-meeting-8/
LOCATION:FL
END:VEVENT
BEGIN:VEVENT
DTSTART;TZID=America/New_York:20241015T190000
DTEND;TZID=America/New_York:20241015T200000
DTSTAMP:20260424T081656
CREATED:20240902T151042Z
LAST-MODIFIED:20240902T151042Z
UID:4330-1729018800-1729022400@aatampa.org
SUMMARY:District 2 Current Practices Committee Meeting
DESCRIPTION:Current Practices\nContact info: currentpractice@aatampa.org\nWhen: 3rd Tuesday of the Month at 7PM\nWhere: Virtual – Zoom\nZoom Meeting ID: 881 8592 8987\nPasscode: current
URL:https://aatampa.org/event/district-2-current-practices-committee-meeting-5/
LOCATION:FL
END:VEVENT
END:VCALENDAR