BEGIN:VCALENDAR
VERSION:2.0
PRODID:-//AA District 2 - ECPv6.15.18//NONSGML v1.0//EN
CALSCALE:GREGORIAN
METHOD:PUBLISH
X-WR-CALNAME:AA District 2
X-ORIGINAL-URL:https://aatampa.org
X-WR-CALDESC:Events for AA District 2
REFRESH-INTERVAL;VALUE=DURATION:PT1H
X-Robots-Tag:noindex
X-PUBLISHED-TTL:PT1H
BEGIN:VTIMEZONE
TZID:America/New_York
BEGIN:DAYLIGHT
TZOFFSETFROM:-0500
TZOFFSETTO:-0400
TZNAME:EDT
DTSTART:20230312T070000
END:DAYLIGHT
BEGIN:STANDARD
TZOFFSETFROM:-0400
TZOFFSETTO:-0500
TZNAME:EST
DTSTART:20231105T060000
END:STANDARD
BEGIN:DAYLIGHT
TZOFFSETFROM:-0500
TZOFFSETTO:-0400
TZNAME:EDT
DTSTART:20240310T070000
END:DAYLIGHT
BEGIN:STANDARD
TZOFFSETFROM:-0400
TZOFFSETTO:-0500
TZNAME:EST
DTSTART:20241103T060000
END:STANDARD
BEGIN:DAYLIGHT
TZOFFSETFROM:-0500
TZOFFSETTO:-0400
TZNAME:EDT
DTSTART:20250309T070000
END:DAYLIGHT
BEGIN:STANDARD
TZOFFSETFROM:-0400
TZOFFSETTO:-0500
TZNAME:EST
DTSTART:20251102T060000
END:STANDARD
END:VTIMEZONE
BEGIN:VEVENT
DTSTART;TZID=America/New_York:20241012T090000
DTEND;TZID=America/New_York:20241012T100000
DTSTAMP:20260424T084550
CREATED:20240902T144744Z
LAST-MODIFIED:20240902T144744Z
UID:4287-1728723600-1728727200@aatampa.org
SUMMARY:District 2 Treasurer Committee Meeting
DESCRIPTION:Treasurer Committee Meetings\nContact info: treasurer@aatampa.org\nWhen: Second Saturday of each month  9:00 am\nWhere: Virtual – Zoom\nMeeting ID: 892 4871 1684\nPasscode: 578922
URL:https://aatampa.org/event/district-2-treasurer-committee-meeting-5/
LOCATION:FL
END:VEVENT
BEGIN:VEVENT
DTSTART;TZID=America/New_York:20241012T103000
DTEND;TZID=America/New_York:20241012T113000
DTSTAMP:20260424T084550
CREATED:20240902T152036Z
LAST-MODIFIED:20240902T152036Z
UID:4354-1728729000-1728732600@aatampa.org
SUMMARY:District 2 TBAIC/Institutions Liaison
DESCRIPTION:TBAIC/Institutions Liaison\nContact info: tbaic@aatampa.org\nWhen: Second Saturday of each month  9:30 am\nWhere: Virtual – Zoom\nZoom Meeting ID: 345 781 6796\nPassword:  274T4N
URL:https://aatampa.org/event/district-2-tbaic-institutions-liaison-4/
LOCATION:FL
END:VEVENT
END:VCALENDAR