BEGIN:VCALENDAR
VERSION:2.0
PRODID:-//AA District 2 - ECPv6.15.18//NONSGML v1.0//EN
CALSCALE:GREGORIAN
METHOD:PUBLISH
X-ORIGINAL-URL:https://aatampa.org
X-WR-CALDESC:Events for AA District 2
REFRESH-INTERVAL;VALUE=DURATION:PT1H
X-Robots-Tag:noindex
X-PUBLISHED-TTL:PT1H
BEGIN:VTIMEZONE
TZID:America/New_York
BEGIN:DAYLIGHT
TZOFFSETFROM:-0500
TZOFFSETTO:-0400
TZNAME:EDT
DTSTART:20230312T070000
END:DAYLIGHT
BEGIN:STANDARD
TZOFFSETFROM:-0400
TZOFFSETTO:-0500
TZNAME:EST
DTSTART:20231105T060000
END:STANDARD
BEGIN:DAYLIGHT
TZOFFSETFROM:-0500
TZOFFSETTO:-0400
TZNAME:EDT
DTSTART:20240310T070000
END:DAYLIGHT
BEGIN:STANDARD
TZOFFSETFROM:-0400
TZOFFSETTO:-0500
TZNAME:EST
DTSTART:20241103T060000
END:STANDARD
BEGIN:DAYLIGHT
TZOFFSETFROM:-0500
TZOFFSETTO:-0400
TZNAME:EDT
DTSTART:20250309T070000
END:DAYLIGHT
BEGIN:STANDARD
TZOFFSETFROM:-0400
TZOFFSETTO:-0500
TZNAME:EST
DTSTART:20251102T060000
END:STANDARD
END:VTIMEZONE
BEGIN:VEVENT
DTSTART;TZID=America/New_York:20240917T180000
DTEND;TZID=America/New_York:20240917T190000
DTSTAMP:20260424T095704
CREATED:20240822T182941Z
LAST-MODIFIED:20240822T182941Z
UID:4262-1726596000-1726599600@aatampa.org
SUMMARY:District 2 Accessibilities Committee Meeting
DESCRIPTION:Accessibilities\nContact info: accessibilities@aatampa.org\nWhen:  Third Tuesday of each month at 6PM\nWhere:  Virtual – Zoom
URL:https://aatampa.org/event/district-2-accessibilities-committee-meeting-7/
LOCATION:FL
END:VEVENT
BEGIN:VEVENT
DTSTART;TZID=America/New_York:20240917T190000
DTEND;TZID=America/New_York:20240917T200000
DTSTAMP:20260424T095704
CREATED:20240902T151006Z
LAST-MODIFIED:20240902T151006Z
UID:4328-1726599600-1726603200@aatampa.org
SUMMARY:District 2 Current Practices Committee Meeting
DESCRIPTION:Current Practices\nContact info: currentpractice@aatampa.org\nWhen: 3rd Tuesday of the Month at 7PM\nWhere: Virtual – Zoom\nZoom Meeting ID: 881 8592 8987\nPasscode: current
URL:https://aatampa.org/event/district-2-current-practices-committee-meeting-4/
LOCATION:FL
END:VEVENT
END:VCALENDAR